BEGIN:VCALENDAR
VERSION:2.0
PRODID:-//https://www.uc-baltic.de///NONSGML kigkonsult.se iCalcreator 2.10.15//
METHOD:PUBLISH
BEGIN:VEVENT
UID:20260419T150713CEST-1670rj1eXM@https://www.uc-baltic.de/
DTSTAMP:20260419T130713Z
DESCRIPTION: https://www.uc-baltic.de/veranstaltungen/kalender/ereignis/172
 8-flossenschwimmen-mo-19-00-20-00-uhr
DTSTART:20260309T180000Z
DTEND:20260309T190000Z
LOCATION:Campusbad (Thomas-Fincke-Straße 19\, 24943 Flensburg)
SUMMARY:Flossenschwimmen\, Mo 19:00 - 20:00 Uhr
URL:https://www.uc-baltic.de/veranstaltungen/kalender/ereignis/1728-flossen
 schwimmen-mo-19-00-20-00-uhr
END:VEVENT
BEGIN:VEVENT
UID:20260419T150713CEST-1674ti9tZe@https://www.uc-baltic.de/
DTSTAMP:20260419T130713Z
DESCRIPTION: https://www.uc-baltic.de/veranstaltungen/kalender/ereignis/174
 0-flossenschwimmen-mo-20-00-21-00-uhr
DTSTART:20260309T190000Z
DTEND:20260309T200000Z
LOCATION:Campusbad (Thomas-Fincke-Straße 19\, 24943 Flensburg)
SUMMARY:Flossenschwimmen\, Mo 20:00 - 21:00 Uhr
URL:https://www.uc-baltic.de/veranstaltungen/kalender/ereignis/1740-flossen
 schwimmen-mo-20-00-21-00-uhr
END:VEVENT
BEGIN:VEVENT
UID:20260419T150713CEST-1676Ip68jP@https://www.uc-baltic.de/
DTSTAMP:20260419T130713Z
DESCRIPTION: https://www.uc-baltic.de/veranstaltungen/kalender/ereignis/175
 3-uw-rugby-mo-20-00-21-00-uhr
DTSTART:20260309T190000Z
DTEND:20260309T200000Z
LOCATION:Campusbad (Thomas-Fincke-Straße 19\, 24943 Flensburg)
SUMMARY:UW-Rugby\, Mo 20:00 -21:00 Uhr
URL:https://www.uc-baltic.de/veranstaltungen/kalender/ereignis/1753-uw-rugb
 y-mo-20-00-21-00-uhr
END:VEVENT
BEGIN:VEVENT
UID:20260419T150713CEST-1678RF72EL@https://www.uc-baltic.de/
DTSTAMP:20260419T130713Z
DESCRIPTION: https://www.uc-baltic.de/veranstaltungen/kalender/ereignis/176
 5-flossenschwimmen-di-19-00-20-00-uhr
DTSTART:20260310T180000Z
DTEND:20260310T190000Z
LOCATION:Campusbad (Thomas-Fincke-Straße 19\, 24943 Flensburg)
SUMMARY:Flossenschwimmen\, Di 19:00 - 20:00 Uhr
URL:https://www.uc-baltic.de/veranstaltungen/kalender/ereignis/1765-flossen
 schwimmen-di-19-00-20-00-uhr
END:VEVENT
BEGIN:VEVENT
UID:20260419T150713CEST-1680dvbxd9@https://www.uc-baltic.de/
DTSTAMP:20260419T130713Z
DESCRIPTION: https://www.uc-baltic.de/veranstaltungen/kalender/ereignis/177
 7-flossenschwimmen-do-16-00-17-00-uhr
DTSTART:20260312T150000Z
DTEND:20260312T160000Z
LOCATION:Campusbad (Thomas-Fincke-Straße 19\, 24943 Flensburg)
SUMMARY:Flossenschwimmen\, Do 16:00 - 17:00 Uhr
URL:https://www.uc-baltic.de/veranstaltungen/kalender/ereignis/1777-flossen
 schwimmen-do-16-00-17-00-uhr
END:VEVENT
BEGIN:VEVENT
UID:20260419T150713CEST-1681jvcNtD@https://www.uc-baltic.de/
DTSTAMP:20260419T130713Z
DESCRIPTION: https://www.uc-baltic.de/veranstaltungen/kalender/ereignis/178
 8-flossenschwimmen-fr-20-00-21-00-uhr
DTSTART:20260313T190000Z
DTEND:20260313T200000Z
LOCATION:Campusbad (Thomas-Fincke-Straße 19\, 24943 Flensburg)
SUMMARY:Flossenschwimmen\, Fr 20:00 - 21:00 Uhr
URL:https://www.uc-baltic.de/veranstaltungen/kalender/ereignis/1788-flossen
 schwimmen-fr-20-00-21-00-uhr
END:VEVENT
BEGIN:VEVENT
UID:20260419T150713CEST-16842dRNIb@https://www.uc-baltic.de/
DTSTAMP:20260419T130713Z
DESCRIPTION:DTSA* Ausbildung im ClubheimUm Rücksichtnahme wird gebeten! htt
 ps://www.uc-baltic.de/veranstaltungen/kalender/ereignis/1804-dtsa-ausbildu
 ng
DTSTART:20260315T130000Z
DTEND:20260315T170000Z
LOCATION:Unterwasserclub Baltic e.V.  (Fahrensodde 20\, 24944 Flensburg)
SUMMARY:DTSA* Ausbildung
URL:https://www.uc-baltic.de/veranstaltungen/kalender/ereignis/1804-dtsa-au
 sbildung
END:VEVENT
END:VCALENDAR
