BEGIN:VCALENDAR
VERSION:2.0
PRODID:-//https://www.uc-baltic.de///NONSGML kigkonsult.se iCalcreator 2.10.15//
METHOD:PUBLISH
BEGIN:VEVENT
UID:20260423T092918CEST-8220PZ54fv@https://www.uc-baltic.de/
DTSTAMP:20260423T072918Z
DESCRIPTION: https://www.uc-baltic.de/veranstaltungen/kalender/ereignis/860
 -flossenschwimmen-mo-19-20-uhr
DTSTART:20240304T180000Z
DTEND:20240304T190000Z
LOCATION:Campusbad (Thomas-Fincke-Straße 19\, 24943 Flensburg)
SUMMARY:Flossenschwimmen\, Mo 19 - 20 Uhr
URL:https://www.uc-baltic.de/veranstaltungen/kalender/ereignis/860-flossens
 chwimmen-mo-19-20-uhr
END:VEVENT
BEGIN:VEVENT
UID:20260423T092918CEST-8222XjvmZC@https://www.uc-baltic.de/
DTSTAMP:20260423T072918Z
DESCRIPTION: https://www.uc-baltic.de/veranstaltungen/kalender/ereignis/872
 -flossenschwimmen-mo-20-21-uhr
DTSTART:20240304T190000Z
DTEND:20240304T200000Z
LOCATION:Campusbad (Thomas-Fincke-Straße 19\, 24943 Flensburg)
SUMMARY:Flossenschwimmen\, Mo 20 - 21 Uhr
URL:https://www.uc-baltic.de/veranstaltungen/kalender/ereignis/872-flossens
 chwimmen-mo-20-21-uhr
END:VEVENT
BEGIN:VEVENT
UID:20260423T092918CEST-8224Tb0s7B@https://www.uc-baltic.de/
DTSTAMP:20260423T072918Z
DESCRIPTION: https://www.uc-baltic.de/veranstaltungen/kalender/ereignis/896
 -flossenschwimmen-di-19-20-uhr
DTSTART:20240305T180000Z
DTEND:20240305T190000Z
LOCATION:Campusbad (Thomas-Fincke-Straße 19\, 24943 Flensburg)
SUMMARY:Flossenschwimmen\, Di 19 - 20 Uhr
URL:https://www.uc-baltic.de/veranstaltungen/kalender/ereignis/896-flossens
 chwimmen-di-19-20-uhr
END:VEVENT
BEGIN:VEVENT
UID:20260423T092918CEST-8225boGcpB@https://www.uc-baltic.de/
DTSTAMP:20260423T072918Z
DESCRIPTION: https://www.uc-baltic.de/veranstaltungen/kalender/ereignis/908
 -flossenschwimmen-do-16-17-uhr
DTSTART:20240307T150000Z
DTEND:20240307T160000Z
LOCATION:Campusbad (Thomas-Fincke-Straße 19\, 24943 Flensburg)
SUMMARY:Flossenschwimmen\, Do 16 - 17 Uhr
URL:https://www.uc-baltic.de/veranstaltungen/kalender/ereignis/908-flossens
 chwimmen-do-16-17-uhr
END:VEVENT
BEGIN:VEVENT
UID:20260423T092918CEST-8226oIvWxJ@https://www.uc-baltic.de/
DTSTAMP:20260423T072918Z
DESCRIPTION:Bei Schnuppertauchen bitte gegenseitig Rücksicht nehmen. Die Ta
 ucher übernehmen keine Beckenaufsicht!! Eine Bitte des Campusbades\, dass 
 bitte einer die Schlüssel für die gesamte Gruppe an der Kasse abholen. htt
 ps://www.uc-baltic.de/veranstaltungen/kalender/ereignis/936-flossenschwimm
 en-fr-20-21-uhr-bahn-5
DTSTART:20240308T190000Z
DTEND:20240308T200000Z
LOCATION:Campusbad (Thomas-Fincke-Straße 19\, 24943 Flensburg)
SUMMARY:Flossenschwimmen\, Fr 20 -21 Uhr\, Bahn 5
URL:https://www.uc-baltic.de/veranstaltungen/kalender/ereignis/936-flossens
 chwimmen-fr-20-21-uhr-bahn-5
END:VEVENT
BEGIN:VEVENT
UID:20260423T092918CEST-8228LxwDwu@https://www.uc-baltic.de/
DTSTAMP:20260423T072918Z
DESCRIPTION: https://www.uc-baltic.de/veranstaltungen/kalender/ereignis/969
 -uw-rugby-mo-20-21-uhr
DTSTART:20240304T190000Z
DTEND:20240304T200000Z
LOCATION:Campusbad (Thomas-Fincke-Straße 19\, 24943 Flensburg)
SUMMARY:UW-Rugby\, Mo 20 - 21 Uhr
URL:https://www.uc-baltic.de/veranstaltungen/kalender/ereignis/969-uw-rugby
 -mo-20-21-uhr
END:VEVENT
END:VCALENDAR
