BEGIN:VCALENDAR
VERSION:2.0
PRODID:-//https://www.uc-baltic.de///NONSGML kigkonsult.se iCalcreator 2.10.15//
METHOD:PUBLISH
BEGIN:VEVENT
UID:20260422T111535CEST-7680uTeVdK@https://www.uc-baltic.de/
DTSTAMP:20260422T091535Z
DESCRIPTION: https://www.uc-baltic.de/veranstaltungen/kalender/ereignis/129
 5-clubabend
DTSTART:20250307T180000Z
DTEND:20250307T225900Z
LOCATION:Unterwasserclub Baltic e.V.  (Fahrensodde 20\, 24944 Flensburg)
SUMMARY:Clubabend
URL:https://www.uc-baltic.de/veranstaltungen/kalender/ereignis/1295-clubabe
 nd
END:VEVENT
BEGIN:VEVENT
UID:20260422T111535CEST-76838Gnilx@https://www.uc-baltic.de/
DTSTAMP:20260422T091535Z
DESCRIPTION:Treffen und Einlass: 15:45 Uhr https://www.uc-baltic.de/veranst
 altungen/kalender/ereignis/1325-flossenschwimmen-do-16-00-17-00-uhr
DTSTART:20250306T150000Z
DTEND:20250306T160000Z
LOCATION:Campusbad (Thomas-Fincke-Straße 19\, 24943 Flensburg)
SUMMARY:Flossenschwimmen\, Do 16:00 - 17:00 Uhr
URL:https://www.uc-baltic.de/veranstaltungen/kalender/ereignis/1325-flossen
 schwimmen-do-16-00-17-00-uhr
END:VEVENT
BEGIN:VEVENT
UID:20260422T111535CEST-7686E43XD5@https://www.uc-baltic.de/
DTSTAMP:20260422T091535Z
DESCRIPTION:Treffen und Einlass: 19:45 Uhr https://www.uc-baltic.de/veranst
 altungen/kalender/ereignis/1339-flossenschwimmen-fr-20-00-21-00-uhr
DTSTART:20250307T190000Z
DTEND:20250307T200000Z
LOCATION:Campusbad (Thomas-Fincke-Straße 19\, 24943 Flensburg)
SUMMARY:Flossenschwimmen\, Fr 20:00 - 21:00 Uhr
URL:https://www.uc-baltic.de/veranstaltungen/kalender/ereignis/1339-flossen
 schwimmen-fr-20-00-21-00-uhr
END:VEVENT
BEGIN:VEVENT
UID:20260422T111535CEST-7689mb38BM@https://www.uc-baltic.de/
DTSTAMP:20260422T091535Z
DESCRIPTION:Treffen und Einlass: 18:45 Uhr https://www.uc-baltic.de/veranst
 altungen/kalender/ereignis/1351-flossenschwimmen-mo-19-00-20-00-uhr
DTSTART:20250303T180000Z
DTEND:20250303T200000Z
LOCATION:Campusbad (Thomas-Fincke-Straße 19\, 24943 Flensburg)
SUMMARY:Flossenschwimmen\, Mo 19:00 - 20:00 Uhr
URL:https://www.uc-baltic.de/veranstaltungen/kalender/ereignis/1351-flossen
 schwimmen-mo-19-00-20-00-uhr
END:VEVENT
BEGIN:VEVENT
UID:20260422T111535CEST-76916v3AKu@https://www.uc-baltic.de/
DTSTAMP:20260422T091535Z
DESCRIPTION:Treffen und Einlass: 19:45 Uhr https://www.uc-baltic.de/veranst
 altungen/kalender/ereignis/1364-flossenschwimmen-mo-20-00-21-00-uhr
DTSTART:20250303T190000Z
DTEND:20250303T200000Z
LOCATION:Campusbad (Thomas-Fincke-Straße 19\, 24943 Flensburg)
SUMMARY:Flossenschwimmen\, Mo 20:00 - 21:00 Uhr
URL:https://www.uc-baltic.de/veranstaltungen/kalender/ereignis/1364-flossen
 schwimmen-mo-20-00-21-00-uhr
END:VEVENT
BEGIN:VEVENT
UID:20260422T111535CEST-7693Dk3Ed4@https://www.uc-baltic.de/
DTSTAMP:20260422T091535Z
DESCRIPTION:Treffen und Einlass: 19:45 Uhr https://www.uc-baltic.de/veranst
 altungen/kalender/ereignis/1377-uw-rugby-mo-20-00-21-00-uhr
DTSTART:20250303T190000Z
DTEND:20250303T200000Z
LOCATION:Campusbad (Thomas-Fincke-Straße 19\, 24943 Flensburg)
SUMMARY:UW-Rugby\, Mo 20:00 - 21:00 Uhr
URL:https://www.uc-baltic.de/veranstaltungen/kalender/ereignis/1377-uw-rugb
 y-mo-20-00-21-00-uhr
END:VEVENT
BEGIN:VEVENT
UID:20260422T111535CEST-76963Go3jS@https://www.uc-baltic.de/
DTSTAMP:20260422T091535Z
DESCRIPTION:Treffen und Einlass: 18:45 Uhr https://www.uc-baltic.de/veranst
 altungen/kalender/ereignis/1390-flossenschwimmen-di-19-00-20-00-uhr
DTSTART:20250304T180000Z
DTEND:20250304T190000Z
LOCATION:Campusbad (Thomas-Fincke-Straße 19\, 24943 Flensburg)
SUMMARY:Flossenschwimmen\, Di 19:00 - 20:00 Uhr
URL:https://www.uc-baltic.de/veranstaltungen/kalender/ereignis/1390-flossen
 schwimmen-di-19-00-20-00-uhr
END:VEVENT
END:VCALENDAR
