BEGIN:VCALENDAR
VERSION:2.0
PRODID:-//https://www.uc-baltic.de///NONSGML kigkonsult.se iCalcreator 2.10.15//
METHOD:PUBLISH
BEGIN:VEVENT
UID:20260419T150715CEST-36121tG5uu@https://www.uc-baltic.de/
DTSTAMP:20260419T130715Z
DESCRIPTION: https://www.uc-baltic.de/veranstaltungen/kalender/ereignis/172
 7-flossenschwimmen-mo-19-00-20-00-uhr
DTSTART:20260302T180000Z
DTEND:20260302T190000Z
LOCATION:Campusbad (Thomas-Fincke-Straße 19\, 24943 Flensburg)
SUMMARY:Flossenschwimmen\, Mo 19:00 - 20:00 Uhr
URL:https://www.uc-baltic.de/veranstaltungen/kalender/ereignis/1727-flossen
 schwimmen-mo-19-00-20-00-uhr
END:VEVENT
BEGIN:VEVENT
UID:20260419T150715CEST-3615aU59VC@https://www.uc-baltic.de/
DTSTAMP:20260419T130715Z
DESCRIPTION: https://www.uc-baltic.de/veranstaltungen/kalender/ereignis/173
 9-flossenschwimmen-mo-20-00-21-00-uhr
DTSTART:20260302T190000Z
DTEND:20260302T200000Z
LOCATION:Campusbad (Thomas-Fincke-Straße 19\, 24943 Flensburg)
SUMMARY:Flossenschwimmen\, Mo 20:00 - 21:00 Uhr
URL:https://www.uc-baltic.de/veranstaltungen/kalender/ereignis/1739-flossen
 schwimmen-mo-20-00-21-00-uhr
END:VEVENT
BEGIN:VEVENT
UID:20260419T150715CEST-3618Zmp5e8@https://www.uc-baltic.de/
DTSTAMP:20260419T130715Z
DESCRIPTION: https://www.uc-baltic.de/veranstaltungen/kalender/ereignis/175
 2-uw-rugby-mo-20-00-21-00-uhr
DTSTART:20260302T190000Z
DTEND:20260302T200000Z
LOCATION:Campusbad (Thomas-Fincke-Straße 19\, 24943 Flensburg)
SUMMARY:UW-Rugby\, Mo 20:00 -21:00 Uhr
URL:https://www.uc-baltic.de/veranstaltungen/kalender/ereignis/1752-uw-rugb
 y-mo-20-00-21-00-uhr
END:VEVENT
BEGIN:VEVENT
UID:20260419T150715CEST-3621JvN5tS@https://www.uc-baltic.de/
DTSTAMP:20260419T130715Z
DESCRIPTION: https://www.uc-baltic.de/veranstaltungen/kalender/ereignis/176
 4-flossenschwimmen-di-19-00-20-00-uhr
DTSTART:20260303T180000Z
DTEND:20260303T190000Z
LOCATION:Campusbad (Thomas-Fincke-Straße 19\, 24943 Flensburg)
SUMMARY:Flossenschwimmen\, Di 19:00 - 20:00 Uhr
URL:https://www.uc-baltic.de/veranstaltungen/kalender/ereignis/1764-flossen
 schwimmen-di-19-00-20-00-uhr
END:VEVENT
BEGIN:VEVENT
UID:20260419T150715CEST-3624BTnT9x@https://www.uc-baltic.de/
DTSTAMP:20260419T130715Z
DESCRIPTION: https://www.uc-baltic.de/veranstaltungen/kalender/ereignis/177
 6-flossenschwimmen-do-16-00-17-00-uhr
DTSTART:20260305T150000Z
DTEND:20260305T160000Z
LOCATION:Campusbad (Thomas-Fincke-Straße 19\, 24943 Flensburg)
SUMMARY:Flossenschwimmen\, Do 16:00 - 17:00 Uhr
URL:https://www.uc-baltic.de/veranstaltungen/kalender/ereignis/1776-flossen
 schwimmen-do-16-00-17-00-uhr
END:VEVENT
BEGIN:VEVENT
UID:20260419T150715CEST-362797Hfox@https://www.uc-baltic.de/
DTSTAMP:20260419T130715Z
DESCRIPTION: https://www.uc-baltic.de/veranstaltungen/kalender/ereignis/178
 7-flossenschwimmen-fr-20-00-21-00-uhr
DTSTART:20260306T190000Z
DTEND:20260306T200000Z
LOCATION:Campusbad (Thomas-Fincke-Straße 19\, 24943 Flensburg)
SUMMARY:Flossenschwimmen\, Fr 20:00 - 21:00 Uhr
URL:https://www.uc-baltic.de/veranstaltungen/kalender/ereignis/1787-flossen
 schwimmen-fr-20-00-21-00-uhr
END:VEVENT
END:VCALENDAR
