BEGIN:VCALENDAR
VERSION:2.0
PRODID:-//https://www.uc-baltic.de///NONSGML kigkonsult.se iCalcreator 2.10.15//
METHOD:PUBLISH
BEGIN:VEVENT
UID:20260424T062823CEST-1133DIvA4P@https://www.uc-baltic.de/
DTSTAMP:20260424T042823Z
DESCRIPTION:GDL ** / DTSA ** siehe AusschreibungAnmeldeschluss 24.02.2023 h
 ttps://www.uc-baltic.de/veranstaltungen/kalender/ereignis/43-gdl-dtsa
DTSTART;VALUE=DATE:20230305
LOCATION:Clubheim UC Baltic ()
SUMMARY:GDL ** / DTSA **
URL:https://www.uc-baltic.de/veranstaltungen/kalender/ereignis/43-gdl-dtsa
END:VEVENT
END:VCALENDAR
