BEGIN:VCALENDAR
VERSION:2.0
PRODID:-//https://www.uc-baltic.de///NONSGML kigkonsult.se iCalcreator 2.10.15//
METHOD:PUBLISH
BEGIN:VEVENT
UID:20260423T092918CEST-02207O0Swk@https://www.uc-baltic.de/
DTSTAMP:20260423T072918Z
DESCRIPTION: https://www.uc-baltic.de/veranstaltungen/kalender/ereignis/859
 -flossenschwimmen-mo-19-20-uhr
DTSTART:20240226T180000Z
DTEND:20240226T190000Z
LOCATION:Campusbad (Thomas-Fincke-Straße 19\, 24943 Flensburg)
SUMMARY:Flossenschwimmen\, Mo 19 - 20 Uhr
URL:https://www.uc-baltic.de/veranstaltungen/kalender/ereignis/859-flossens
 chwimmen-mo-19-20-uhr
END:VEVENT
BEGIN:VEVENT
UID:20260423T092918CEST-0223vh5czZ@https://www.uc-baltic.de/
DTSTAMP:20260423T072918Z
DESCRIPTION: https://www.uc-baltic.de/veranstaltungen/kalender/ereignis/871
 -flossenschwimmen-mo-20-21-uhr
DTSTART:20240226T190000Z
DTEND:20240226T200000Z
LOCATION:Campusbad (Thomas-Fincke-Straße 19\, 24943 Flensburg)
SUMMARY:Flossenschwimmen\, Mo 20 - 21 Uhr
URL:https://www.uc-baltic.de/veranstaltungen/kalender/ereignis/871-flossens
 chwimmen-mo-20-21-uhr
END:VEVENT
BEGIN:VEVENT
UID:20260423T092918CEST-0226U0t3sZ@https://www.uc-baltic.de/
DTSTAMP:20260423T072918Z
DESCRIPTION: https://www.uc-baltic.de/veranstaltungen/kalender/ereignis/895
 -flossenschwimmen-di-19-20-uhr
DTSTART:20240227T180000Z
DTEND:20240227T190000Z
LOCATION:Campusbad (Thomas-Fincke-Straße 19\, 24943 Flensburg)
SUMMARY:Flossenschwimmen\, Di 19 - 20 Uhr
URL:https://www.uc-baltic.de/veranstaltungen/kalender/ereignis/895-flossens
 chwimmen-di-19-20-uhr
END:VEVENT
BEGIN:VEVENT
UID:20260423T092918CEST-0229Cv23VS@https://www.uc-baltic.de/
DTSTAMP:20260423T072918Z
DESCRIPTION: https://www.uc-baltic.de/veranstaltungen/kalender/ereignis/907
 -flossenschwimmen-do-16-17-uhr
DTSTART:20240229T150000Z
DTEND:20240229T160000Z
LOCATION:Campusbad (Thomas-Fincke-Straße 19\, 24943 Flensburg)
SUMMARY:Flossenschwimmen\, Do 16 - 17 Uhr
URL:https://www.uc-baltic.de/veranstaltungen/kalender/ereignis/907-flossens
 chwimmen-do-16-17-uhr
END:VEVENT
BEGIN:VEVENT
UID:20260423T092918CEST-0230Vnlpb1@https://www.uc-baltic.de/
DTSTAMP:20260423T072918Z
DESCRIPTION:Bei Schnuppertauchen bitte gegenseitig Rücksicht nehmen. Die Ta
 ucher übernehmen keine Beckenaufsicht!! Eine Bitte des Campusbades\, dass 
 bitte einer die Schlüssel für die gesamte Gruppe an der Kasse abholen. htt
 ps://www.uc-baltic.de/veranstaltungen/kalender/ereignis/935-flossenschwimm
 en-fr-20-21-uhr-bahn-5
DTSTART:20240301T190000Z
DTEND:20240301T200000Z
LOCATION:Campusbad (Thomas-Fincke-Straße 19\, 24943 Flensburg)
SUMMARY:Flossenschwimmen\, Fr 20 -21 Uhr\, Bahn 5
URL:https://www.uc-baltic.de/veranstaltungen/kalender/ereignis/935-flossens
 chwimmen-fr-20-21-uhr-bahn-5
END:VEVENT
BEGIN:VEVENT
UID:20260423T092918CEST-02339Nc6GX@https://www.uc-baltic.de/
DTSTAMP:20260423T072918Z
DESCRIPTION: https://www.uc-baltic.de/veranstaltungen/kalender/ereignis/985
 -uw-rugby-mo-20-21-uhr
DTSTART:20240226T190000Z
DTEND:20240226T200000Z
LOCATION:Unterwasserclub Baltic e.V.  (Fahrensodde 20\, 24944 Flensburg)
SUMMARY:UW-Rugby\, Mo 20-21 Uhr
URL:https://www.uc-baltic.de/veranstaltungen/kalender/ereignis/985-uw-rugby
 -mo-20-21-uhr
END:VEVENT
END:VCALENDAR
