BEGIN:VCALENDAR
VERSION:2.0
PRODID:-//https://www.uc-baltic.de///NONSGML kigkonsult.se iCalcreator 2.10.15//
METHOD:PUBLISH
BEGIN:VEVENT
UID:20260422T111536CEST-2737494O9B@https://www.uc-baltic.de/
DTSTAMP:20260422T091536Z
DESCRIPTION:Treffen und Einlass: 15:45 Uhr https://www.uc-baltic.de/veranst
 altungen/kalender/ereignis/1324-flossenschwimmen-do-16-00-17-00-uhr
DTSTART:20250227T150000Z
DTEND:20250227T160000Z
LOCATION:Campusbad (Thomas-Fincke-Straße 19\, 24943 Flensburg)
SUMMARY:Flossenschwimmen\, Do 16:00 - 17:00 Uhr
URL:https://www.uc-baltic.de/veranstaltungen/kalender/ereignis/1324-flossen
 schwimmen-do-16-00-17-00-uhr
END:VEVENT
BEGIN:VEVENT
UID:20260422T111536CEST-2740uoNroj@https://www.uc-baltic.de/
DTSTAMP:20260422T091536Z
DESCRIPTION:Treffen und Einlass: 19:45 Uhr https://www.uc-baltic.de/veranst
 altungen/kalender/ereignis/1338-flossenschwimmen-fr-20-00-21-00-uhr
DTSTART:20250228T190000Z
DTEND:20250228T200000Z
LOCATION:Campusbad (Thomas-Fincke-Straße 19\, 24943 Flensburg)
SUMMARY:Flossenschwimmen\, Fr 20:00 - 21:00 Uhr
URL:https://www.uc-baltic.de/veranstaltungen/kalender/ereignis/1338-flossen
 schwimmen-fr-20-00-21-00-uhr
END:VEVENT
BEGIN:VEVENT
UID:20260422T111536CEST-2743Lznav5@https://www.uc-baltic.de/
DTSTAMP:20260422T091536Z
DESCRIPTION:Treffen und Einlass: 18:45 Uhr https://www.uc-baltic.de/veranst
 altungen/kalender/ereignis/1350-flossenschwimmen-mo-19-00-20-00-uhr
DTSTART:20250224T180000Z
DTEND:20250224T200000Z
LOCATION:Campusbad (Thomas-Fincke-Straße 19\, 24943 Flensburg)
SUMMARY:Flossenschwimmen\, Mo 19:00 - 20:00 Uhr
URL:https://www.uc-baltic.de/veranstaltungen/kalender/ereignis/1350-flossen
 schwimmen-mo-19-00-20-00-uhr
END:VEVENT
BEGIN:VEVENT
UID:20260422T111536CEST-2745KLiOVI@https://www.uc-baltic.de/
DTSTAMP:20260422T091536Z
DESCRIPTION:Treffen und Einlass: 19:45 Uhr https://www.uc-baltic.de/veranst
 altungen/kalender/ereignis/1363-flossenschwimmen-mo-20-00-21-00-uhr
DTSTART:20250224T190000Z
DTEND:20250224T200000Z
LOCATION:Campusbad (Thomas-Fincke-Straße 19\, 24943 Flensburg)
SUMMARY:Flossenschwimmen\, Mo 20:00 - 21:00 Uhr
URL:https://www.uc-baltic.de/veranstaltungen/kalender/ereignis/1363-flossen
 schwimmen-mo-20-00-21-00-uhr
END:VEVENT
BEGIN:VEVENT
UID:20260422T111536CEST-2747CmT7Ll@https://www.uc-baltic.de/
DTSTAMP:20260422T091536Z
DESCRIPTION:Treffen und Einlass: 19:45 Uhr https://www.uc-baltic.de/veranst
 altungen/kalender/ereignis/1376-uw-rugby-mo-20-00-21-00-uhr
DTSTART:20250224T190000Z
DTEND:20250224T200000Z
LOCATION:Campusbad (Thomas-Fincke-Straße 19\, 24943 Flensburg)
SUMMARY:UW-Rugby\, Mo 20:00 - 21:00 Uhr
URL:https://www.uc-baltic.de/veranstaltungen/kalender/ereignis/1376-uw-rugb
 y-mo-20-00-21-00-uhr
END:VEVENT
BEGIN:VEVENT
UID:20260422T111536CEST-2749RzN4uz@https://www.uc-baltic.de/
DTSTAMP:20260422T091536Z
DESCRIPTION:Treffen und Einlass: 18:45 Uhr https://www.uc-baltic.de/veranst
 altungen/kalender/ereignis/1389-flossenschwimmen-di-19-00-20-00-uhr
DTSTART:20250225T180000Z
DTEND:20250225T190000Z
LOCATION:Campusbad (Thomas-Fincke-Straße 19\, 24943 Flensburg)
SUMMARY:Flossenschwimmen\, Di 19:00 - 20:00 Uhr
URL:https://www.uc-baltic.de/veranstaltungen/kalender/ereignis/1389-flossen
 schwimmen-di-19-00-20-00-uhr
END:VEVENT
BEGIN:VEVENT
UID:20260422T111536CEST-2752LMFpX5@https://www.uc-baltic.de/
DTSTAMP:20260422T091536Z
DESCRIPTION: https://www.uc-baltic.de/veranstaltungen/kalender/ereignis/139
 7-dtsa-theoriepruefung
DTSTART:20250302T090000Z
DTEND:20250302T110000Z
LOCATION:Clubheim UC Baltic ()
SUMMARY:DTSA** Theorieprüfung
URL:https://www.uc-baltic.de/veranstaltungen/kalender/ereignis/1397-dtsa-th
 eoriepruefung
END:VEVENT
END:VCALENDAR
