BEGIN:VCALENDAR
VERSION:2.0
PRODID:-//https://www.uc-baltic.de///NONSGML kigkonsult.se iCalcreator 2.10.15//
METHOD:PUBLISH
BEGIN:VEVENT
UID:20260419T150714CEST-9485s3oTuV@https://www.uc-baltic.de/
DTSTAMP:20260419T130714Z
DESCRIPTION: https://www.uc-baltic.de/veranstaltungen/kalender/ereignis/172
 6-flossenschwimmen-mo-19-00-20-00-uhr
DTSTART:20260223T180000Z
DTEND:20260223T190000Z
LOCATION:Campusbad (Thomas-Fincke-Straße 19\, 24943 Flensburg)
SUMMARY:Flossenschwimmen\, Mo 19:00 - 20:00 Uhr
URL:https://www.uc-baltic.de/veranstaltungen/kalender/ereignis/1726-flossen
 schwimmen-mo-19-00-20-00-uhr
END:VEVENT
BEGIN:VEVENT
UID:20260419T150714CEST-9489o0JV9p@https://www.uc-baltic.de/
DTSTAMP:20260419T130714Z
DESCRIPTION: https://www.uc-baltic.de/veranstaltungen/kalender/ereignis/173
 8-flossenschwimmen-mo-20-00-21-00-uhr
DTSTART:20260223T190000Z
DTEND:20260223T200000Z
LOCATION:Campusbad (Thomas-Fincke-Straße 19\, 24943 Flensburg)
SUMMARY:Flossenschwimmen\, Mo 20:00 - 21:00 Uhr
URL:https://www.uc-baltic.de/veranstaltungen/kalender/ereignis/1738-flossen
 schwimmen-mo-20-00-21-00-uhr
END:VEVENT
BEGIN:VEVENT
UID:20260419T150714CEST-9491lcobmO@https://www.uc-baltic.de/
DTSTAMP:20260419T130714Z
DESCRIPTION: https://www.uc-baltic.de/veranstaltungen/kalender/ereignis/175
 1-uw-rugby-mo-20-00-21-00-uhr
DTSTART:20260223T190000Z
DTEND:20260223T200000Z
LOCATION:Campusbad (Thomas-Fincke-Straße 19\, 24943 Flensburg)
SUMMARY:UW-Rugby\, Mo 20:00 -21:00 Uhr
URL:https://www.uc-baltic.de/veranstaltungen/kalender/ereignis/1751-uw-rugb
 y-mo-20-00-21-00-uhr
END:VEVENT
BEGIN:VEVENT
UID:20260419T150714CEST-9493vR3Ec1@https://www.uc-baltic.de/
DTSTAMP:20260419T130714Z
DESCRIPTION: https://www.uc-baltic.de/veranstaltungen/kalender/ereignis/176
 3-flossenschwimmen-di-19-00-20-00-uhr
DTSTART:20260224T180000Z
DTEND:20260224T190000Z
LOCATION:Campusbad (Thomas-Fincke-Straße 19\, 24943 Flensburg)
SUMMARY:Flossenschwimmen\, Di 19:00 - 20:00 Uhr
URL:https://www.uc-baltic.de/veranstaltungen/kalender/ereignis/1763-flossen
 schwimmen-di-19-00-20-00-uhr
END:VEVENT
BEGIN:VEVENT
UID:20260419T150714CEST-9496ppuijz@https://www.uc-baltic.de/
DTSTAMP:20260419T130714Z
DESCRIPTION: https://www.uc-baltic.de/veranstaltungen/kalender/ereignis/177
 5-flossenschwimmen-do-16-00-17-00-uhr
DTSTART:20260226T150000Z
DTEND:20260226T160000Z
LOCATION:Campusbad (Thomas-Fincke-Straße 19\, 24943 Flensburg)
SUMMARY:Flossenschwimmen\, Do 16:00 - 17:00 Uhr
URL:https://www.uc-baltic.de/veranstaltungen/kalender/ereignis/1775-flossen
 schwimmen-do-16-00-17-00-uhr
END:VEVENT
BEGIN:VEVENT
UID:20260419T150714CEST-9499JpdwI4@https://www.uc-baltic.de/
DTSTAMP:20260419T130714Z
DESCRIPTION: https://www.uc-baltic.de/veranstaltungen/kalender/ereignis/178
 6-flossenschwimmen-fr-20-00-21-00-uhr
DTSTART:20260227T190000Z
DTEND:20260227T200000Z
LOCATION:Campusbad (Thomas-Fincke-Straße 19\, 24943 Flensburg)
SUMMARY:Flossenschwimmen\, Fr 20:00 - 21:00 Uhr
URL:https://www.uc-baltic.de/veranstaltungen/kalender/ereignis/1786-flossen
 schwimmen-fr-20-00-21-00-uhr
END:VEVENT
END:VCALENDAR
