BEGIN:VCALENDAR
VERSION:2.0
PRODID:-//https://www.uc-baltic.de///NONSGML kigkonsult.se iCalcreator 2.10.15//
METHOD:PUBLISH
BEGIN:VEVENT
UID:20260423T112154CEST-0413aaVp1C@https://www.uc-baltic.de/
DTSTAMP:20260423T092154Z
DESCRIPTION: https://www.uc-baltic.de/veranstaltungen/kalender/ereignis/858
 -flossenschwimmen-mo-19-20-uhr
DTSTART:20240219T180000Z
DTEND:20240219T190000Z
LOCATION:Campusbad (Thomas-Fincke-Straße 19\, 24943 Flensburg)
SUMMARY:Flossenschwimmen\, Mo 19 - 20 Uhr
URL:https://www.uc-baltic.de/veranstaltungen/kalender/ereignis/858-flossens
 chwimmen-mo-19-20-uhr
END:VEVENT
BEGIN:VEVENT
UID:20260423T112154CEST-0416S4Gzbb@https://www.uc-baltic.de/
DTSTAMP:20260423T092154Z
DESCRIPTION: https://www.uc-baltic.de/veranstaltungen/kalender/ereignis/870
 -flossenschwimmen-mo-20-21-uhr
DTSTART:20240219T190000Z
DTEND:20240219T200000Z
LOCATION:Campusbad (Thomas-Fincke-Straße 19\, 24943 Flensburg)
SUMMARY:Flossenschwimmen\, Mo 20 - 21 Uhr
URL:https://www.uc-baltic.de/veranstaltungen/kalender/ereignis/870-flossens
 chwimmen-mo-20-21-uhr
END:VEVENT
BEGIN:VEVENT
UID:20260423T112154CEST-0419Au5Cxk@https://www.uc-baltic.de/
DTSTAMP:20260423T092154Z
DESCRIPTION: https://www.uc-baltic.de/veranstaltungen/kalender/ereignis/894
 -flossenschwimmen-di-19-20-uhr
DTSTART:20240220T180000Z
DTEND:20240220T190000Z
LOCATION:Campusbad (Thomas-Fincke-Straße 19\, 24943 Flensburg)
SUMMARY:Flossenschwimmen\, Di 19 - 20 Uhr
URL:https://www.uc-baltic.de/veranstaltungen/kalender/ereignis/894-flossens
 chwimmen-di-19-20-uhr
END:VEVENT
BEGIN:VEVENT
UID:20260423T112154CEST-04217mB8Xh@https://www.uc-baltic.de/
DTSTAMP:20260423T092154Z
DESCRIPTION: https://www.uc-baltic.de/veranstaltungen/kalender/ereignis/906
 -flossenschwimmen-do-16-17-uhr
DTSTART:20240222T150000Z
DTEND:20240222T160000Z
LOCATION:Campusbad (Thomas-Fincke-Straße 19\, 24943 Flensburg)
SUMMARY:Flossenschwimmen\, Do 16 - 17 Uhr
URL:https://www.uc-baltic.de/veranstaltungen/kalender/ereignis/906-flossens
 chwimmen-do-16-17-uhr
END:VEVENT
BEGIN:VEVENT
UID:20260423T112154CEST-0423m3Gvc3@https://www.uc-baltic.de/
DTSTAMP:20260423T092154Z
DESCRIPTION: https://www.uc-baltic.de/veranstaltungen/kalender/ereignis/967
 -uw-rugby-mo-20-21-uhr
DTSTART:20240219T190000Z
DTEND:20240219T200000Z
LOCATION:Campusbad (Thomas-Fincke-Straße 19\, 24943 Flensburg)
SUMMARY:UW-Rugby\, Mo 20 - 21 Uhr
URL:https://www.uc-baltic.de/veranstaltungen/kalender/ereignis/967-uw-rugby
 -mo-20-21-uhr
END:VEVENT
END:VCALENDAR
