BEGIN:VCALENDAR
VERSION:2.0
PRODID:-//https://www.uc-baltic.de///NONSGML kigkonsult.se iCalcreator 2.10.15//
METHOD:PUBLISH
BEGIN:VEVENT
UID:20260422T123622CEST-4405etUgW3@https://www.uc-baltic.de/
DTSTAMP:20260422T103622Z
DESCRIPTION: https://www.uc-baltic.de/veranstaltungen/kalender/ereignis/129
 4-clubabend
DTSTART:20250221T180000Z
DTEND:20250221T225900Z
LOCATION:Unterwasserclub Baltic e.V.  (Fahrensodde 20\, 24944 Flensburg)
SUMMARY:Clubabend
URL:https://www.uc-baltic.de/veranstaltungen/kalender/ereignis/1294-clubabe
 nd
END:VEVENT
BEGIN:VEVENT
UID:20260422T123622CEST-4409nX1vv0@https://www.uc-baltic.de/
DTSTAMP:20260422T103622Z
DESCRIPTION:Treffen und Einlass: 15:45 Uhr https://www.uc-baltic.de/veranst
 altungen/kalender/ereignis/1323-flossenschwimmen-do-16-00-17-00-uhr
DTSTART:20250220T150000Z
DTEND:20250220T160000Z
LOCATION:Campusbad (Thomas-Fincke-Straße 19\, 24943 Flensburg)
SUMMARY:Flossenschwimmen\, Do 16:00 - 17:00 Uhr
URL:https://www.uc-baltic.de/veranstaltungen/kalender/ereignis/1323-flossen
 schwimmen-do-16-00-17-00-uhr
END:VEVENT
BEGIN:VEVENT
UID:20260422T123622CEST-4411UV8Nfw@https://www.uc-baltic.de/
DTSTAMP:20260422T103622Z
DESCRIPTION:Treffen und Einlass: 19:45 Uhr https://www.uc-baltic.de/veranst
 altungen/kalender/ereignis/1337-flossenschwimmen-fr-20-00-21-00-uhr
DTSTART:20250221T190000Z
DTEND:20250221T200000Z
LOCATION:Campusbad (Thomas-Fincke-Straße 19\, 24943 Flensburg)
SUMMARY:Flossenschwimmen\, Fr 20:00 - 21:00 Uhr
URL:https://www.uc-baltic.de/veranstaltungen/kalender/ereignis/1337-flossen
 schwimmen-fr-20-00-21-00-uhr
END:VEVENT
BEGIN:VEVENT
UID:20260422T123622CEST-4412CKWD4u@https://www.uc-baltic.de/
DTSTAMP:20260422T103622Z
DESCRIPTION:Treffen und Einlass: 18:45 Uhr https://www.uc-baltic.de/veranst
 altungen/kalender/ereignis/1349-flossenschwimmen-mo-19-00-20-00-uhr
DTSTART:20250217T180000Z
DTEND:20250217T200000Z
LOCATION:Campusbad (Thomas-Fincke-Straße 19\, 24943 Flensburg)
SUMMARY:Flossenschwimmen\, Mo 19:00 - 20:00 Uhr
URL:https://www.uc-baltic.de/veranstaltungen/kalender/ereignis/1349-flossen
 schwimmen-mo-19-00-20-00-uhr
END:VEVENT
BEGIN:VEVENT
UID:20260422T123622CEST-4414fAUskh@https://www.uc-baltic.de/
DTSTAMP:20260422T103622Z
DESCRIPTION:Treffen und Einlass: 19:45 Uhr https://www.uc-baltic.de/veranst
 altungen/kalender/ereignis/1362-flossenschwimmen-mo-20-00-21-00-uhr
DTSTART:20250217T190000Z
DTEND:20250217T200000Z
LOCATION:Campusbad (Thomas-Fincke-Straße 19\, 24943 Flensburg)
SUMMARY:Flossenschwimmen\, Mo 20:00 - 21:00 Uhr
URL:https://www.uc-baltic.de/veranstaltungen/kalender/ereignis/1362-flossen
 schwimmen-mo-20-00-21-00-uhr
END:VEVENT
BEGIN:VEVENT
UID:20260422T123622CEST-4416rial9k@https://www.uc-baltic.de/
DTSTAMP:20260422T103622Z
DESCRIPTION:Treffen und Einlass: 19:45 Uhr https://www.uc-baltic.de/veranst
 altungen/kalender/ereignis/1375-uw-rugby-mo-20-00-21-00-uhr
DTSTART:20250217T190000Z
DTEND:20250217T200000Z
LOCATION:Campusbad (Thomas-Fincke-Straße 19\, 24943 Flensburg)
SUMMARY:UW-Rugby\, Mo 20:00 - 21:00 Uhr
URL:https://www.uc-baltic.de/veranstaltungen/kalender/ereignis/1375-uw-rugb
 y-mo-20-00-21-00-uhr
END:VEVENT
BEGIN:VEVENT
UID:20260422T123622CEST-44189X2Uit@https://www.uc-baltic.de/
DTSTAMP:20260422T103622Z
DESCRIPTION:Treffen und Einlass: 18:45 Uhr https://www.uc-baltic.de/veranst
 altungen/kalender/ereignis/1388-flossenschwimmen-di-19-00-20-00-uhr
DTSTART:20250218T180000Z
DTEND:20250218T190000Z
LOCATION:Campusbad (Thomas-Fincke-Straße 19\, 24943 Flensburg)
SUMMARY:Flossenschwimmen\, Di 19:00 - 20:00 Uhr
URL:https://www.uc-baltic.de/veranstaltungen/kalender/ereignis/1388-flossen
 schwimmen-di-19-00-20-00-uhr
END:VEVENT
END:VCALENDAR
