BEGIN:VCALENDAR
VERSION:2.0
PRODID:-//https://www.uc-baltic.de///NONSGML kigkonsult.se iCalcreator 2.10.15//
METHOD:PUBLISH
BEGIN:VEVENT
UID:20260419T162723CEST-91468rhamC@https://www.uc-baltic.de/
DTSTAMP:20260419T142723Z
DESCRIPTION:Moin zusammen\,\nam 21. Februar besucht uns eine Gruppe Gasttau
 cher\, vor Ihrem Besuch im Tauchermuseum.\nTauchbetrieb findet wie immer s
 tatt\, es kann nur etwas voller werden.Dieser Termin dient nur um euch zu 
 informieren. https://www.uc-baltic.de/veranstaltungen/kalender/ereignis/17
 17-gasttaucher-foerdeschlosser
DTSTART:20260221T110000Z
DTEND:20260221T143000Z
LOCATION:Unterwasserclub Baltic e.V.  (Fahrensodde 20\, 24944 Flensburg)
SUMMARY:Gasttaucher Fördeschlosser
URL:https://www.uc-baltic.de/veranstaltungen/kalender/ereignis/1717-gasttau
 cher-foerdeschlosser
END:VEVENT
BEGIN:VEVENT
UID:20260419T162723CEST-9150Pur7Uf@https://www.uc-baltic.de/
DTSTAMP:20260419T142723Z
DESCRIPTION: https://www.uc-baltic.de/veranstaltungen/kalender/ereignis/172
 5-flossenschwimmen-mo-19-00-20-00-uhr
DTSTART:20260216T180000Z
DTEND:20260216T190000Z
LOCATION:Campusbad (Thomas-Fincke-Straße 19\, 24943 Flensburg)
SUMMARY:Flossenschwimmen\, Mo 19:00 - 20:00 Uhr
URL:https://www.uc-baltic.de/veranstaltungen/kalender/ereignis/1725-flossen
 schwimmen-mo-19-00-20-00-uhr
END:VEVENT
BEGIN:VEVENT
UID:20260419T162723CEST-9151UA3ReR@https://www.uc-baltic.de/
DTSTAMP:20260419T142723Z
DESCRIPTION: https://www.uc-baltic.de/veranstaltungen/kalender/ereignis/173
 7-flossenschwimmen-mo-20-00-21-00-uhr
DTSTART:20260216T190000Z
DTEND:20260216T200000Z
LOCATION:Campusbad (Thomas-Fincke-Straße 19\, 24943 Flensburg)
SUMMARY:Flossenschwimmen\, Mo 20:00 - 21:00 Uhr
URL:https://www.uc-baltic.de/veranstaltungen/kalender/ereignis/1737-flossen
 schwimmen-mo-20-00-21-00-uhr
END:VEVENT
BEGIN:VEVENT
UID:20260419T162723CEST-9153dRom6T@https://www.uc-baltic.de/
DTSTAMP:20260419T142723Z
DESCRIPTION: https://www.uc-baltic.de/veranstaltungen/kalender/ereignis/175
 0-uw-rugby-mo-20-00-21-00-uhr
DTSTART:20260216T190000Z
DTEND:20260216T200000Z
LOCATION:Campusbad (Thomas-Fincke-Straße 19\, 24943 Flensburg)
SUMMARY:UW-Rugby\, Mo 20:00 -21:00 Uhr
URL:https://www.uc-baltic.de/veranstaltungen/kalender/ereignis/1750-uw-rugb
 y-mo-20-00-21-00-uhr
END:VEVENT
BEGIN:VEVENT
UID:20260419T162723CEST-9154mAmCbN@https://www.uc-baltic.de/
DTSTAMP:20260419T142723Z
DESCRIPTION: https://www.uc-baltic.de/veranstaltungen/kalender/ereignis/176
 2-flossenschwimmen-di-19-00-20-00-uhr
DTSTART:20260217T180000Z
DTEND:20260217T190000Z
LOCATION:Campusbad (Thomas-Fincke-Straße 19\, 24943 Flensburg)
SUMMARY:Flossenschwimmen\, Di 19:00 - 20:00 Uhr
URL:https://www.uc-baltic.de/veranstaltungen/kalender/ereignis/1762-flossen
 schwimmen-di-19-00-20-00-uhr
END:VEVENT
BEGIN:VEVENT
UID:20260419T162723CEST-91563wV9WT@https://www.uc-baltic.de/
DTSTAMP:20260419T142723Z
DESCRIPTION: https://www.uc-baltic.de/veranstaltungen/kalender/ereignis/177
 4-flossenschwimmen-do-16-00-17-00-uhr
DTSTART:20260219T150000Z
DTEND:20260219T160000Z
LOCATION:Campusbad (Thomas-Fincke-Straße 19\, 24943 Flensburg)
SUMMARY:Flossenschwimmen\, Do 16:00 - 17:00 Uhr
URL:https://www.uc-baltic.de/veranstaltungen/kalender/ereignis/1774-flossen
 schwimmen-do-16-00-17-00-uhr
END:VEVENT
BEGIN:VEVENT
UID:20260419T162723CEST-9158gnmkcT@https://www.uc-baltic.de/
DTSTAMP:20260419T142723Z
DESCRIPTION: https://www.uc-baltic.de/veranstaltungen/kalender/ereignis/178
 5-flossenschwimmen-fr-20-00-21-00-uhr
DTSTART:20260220T190000Z
DTEND:20260220T200000Z
LOCATION:Campusbad (Thomas-Fincke-Straße 19\, 24943 Flensburg)
SUMMARY:Flossenschwimmen\, Fr 20:00 - 21:00 Uhr
URL:https://www.uc-baltic.de/veranstaltungen/kalender/ereignis/1785-flossen
 schwimmen-fr-20-00-21-00-uhr
END:VEVENT
END:VCALENDAR
