BEGIN:VCALENDAR
VERSION:2.0
PRODID:-//https://www.uc-baltic.de///NONSGML kigkonsult.se iCalcreator 2.10.15//
METHOD:PUBLISH
BEGIN:VEVENT
UID:20260423T112154CEST-5221gd6odn@https://www.uc-baltic.de/
DTSTAMP:20260423T092154Z
DESCRIPTION: https://www.uc-baltic.de/veranstaltungen/kalender/ereignis/856
 -flossenschwimmen-mo-19-20-uhr
DTSTART:20240205T180000Z
DTEND:20240205T190000Z
LOCATION:Campusbad (Thomas-Fincke-Straße 19\, 24943 Flensburg)
SUMMARY:Flossenschwimmen\, Mo 19 - 20 Uhr
URL:https://www.uc-baltic.de/veranstaltungen/kalender/ereignis/856-flossens
 chwimmen-mo-19-20-uhr
END:VEVENT
BEGIN:VEVENT
UID:20260423T112154CEST-5224UuHEve@https://www.uc-baltic.de/
DTSTAMP:20260423T092154Z
DESCRIPTION: https://www.uc-baltic.de/veranstaltungen/kalender/ereignis/868
 -flossenschwimmen-mo-20-21-uhr
DTSTART:20240205T190000Z
DTEND:20240205T200000Z
LOCATION:Campusbad (Thomas-Fincke-Straße 19\, 24943 Flensburg)
SUMMARY:Flossenschwimmen\, Mo 20 - 21 Uhr
URL:https://www.uc-baltic.de/veranstaltungen/kalender/ereignis/868-flossens
 chwimmen-mo-20-21-uhr
END:VEVENT
BEGIN:VEVENT
UID:20260423T112154CEST-52262LvWm9@https://www.uc-baltic.de/
DTSTAMP:20260423T092154Z
DESCRIPTION: https://www.uc-baltic.de/veranstaltungen/kalender/ereignis/880
 -uw-rugby-mo-20-21-uhr
DTSTART:20240205T190000Z
DTEND:20240205T200000Z
LOCATION:Campusbad (Thomas-Fincke-Straße 19\, 24943 Flensburg)
SUMMARY:UW-Rugby\, Mo 20 - 21 Uhr
URL:https://www.uc-baltic.de/veranstaltungen/kalender/ereignis/880-uw-rugby
 -mo-20-21-uhr
END:VEVENT
BEGIN:VEVENT
UID:20260423T112154CEST-5228DROcuC@https://www.uc-baltic.de/
DTSTAMP:20260423T092154Z
DESCRIPTION: https://www.uc-baltic.de/veranstaltungen/kalender/ereignis/892
 -flossenschwimmen-di-19-20-uhr
DTSTART:20240206T180000Z
DTEND:20240206T190000Z
LOCATION:Campusbad (Thomas-Fincke-Straße 19\, 24943 Flensburg)
SUMMARY:Flossenschwimmen\, Di 19 - 20 Uhr
URL:https://www.uc-baltic.de/veranstaltungen/kalender/ereignis/892-flossens
 chwimmen-di-19-20-uhr
END:VEVENT
BEGIN:VEVENT
UID:20260423T112154CEST-52302CVp1v@https://www.uc-baltic.de/
DTSTAMP:20260423T092154Z
DESCRIPTION: https://www.uc-baltic.de/veranstaltungen/kalender/ereignis/904
 -flossenschwimmen-do-16-17-uhr
DTSTART:20240208T150000Z
DTEND:20240208T160000Z
LOCATION:Campusbad (Thomas-Fincke-Straße 19\, 24943 Flensburg)
SUMMARY:Flossenschwimmen\, Do 16 - 17 Uhr
URL:https://www.uc-baltic.de/veranstaltungen/kalender/ereignis/904-flossens
 chwimmen-do-16-17-uhr
END:VEVENT
BEGIN:VEVENT
UID:20260423T112154CEST-5231emVsK8@https://www.uc-baltic.de/
DTSTAMP:20260423T092154Z
DESCRIPTION:Treffen und Einlass 19:45 Uhr. Denkt bitte an die Beckenaufsich
 t ( >18 Jahre\, Rettungsschwimmer Silber) Bei Schnuppertauchen bitte gegen
 seitig Rücksicht nehmen. Die Taucher übernehmen keine Beckenaufsicht!! Ein
 e Bitte des Campusbades\, dass bitte einer die Schlüssel für die gesamte G
 ruppe an der Kasse abholen. https://www.uc-baltic.de/veranstaltungen/kalen
 der/ereignis/933-flossenschwimmen-fr-20-21-uhr-bahn-5
DTSTART:20240209T190000Z
DTEND:20240209T200000Z
LOCATION:Campusbad (Thomas-Fincke-Straße 19\, 24943 Flensburg)
SUMMARY:Flossenschwimmen\, Fr 20 -21 Uhr\, Bahn 5
URL:https://www.uc-baltic.de/veranstaltungen/kalender/ereignis/933-flossens
 chwimmen-fr-20-21-uhr-bahn-5
END:VEVENT
END:VCALENDAR
