BEGIN:VCALENDAR
VERSION:2.0
PRODID:-//https://www.uc-baltic.de///NONSGML kigkonsult.se iCalcreator 2.10.15//
METHOD:PUBLISH
BEGIN:VEVENT
UID:20260422T123638CEST-7684g08VF6@https://www.uc-baltic.de/
DTSTAMP:20260422T103638Z
DESCRIPTION: https://www.uc-baltic.de/veranstaltungen/kalender/ereignis/129
 3-clubabend
DTSTART:20250207T180000Z
DTEND:20250207T225900Z
LOCATION:Unterwasserclub Baltic e.V.  (Fahrensodde 20\, 24944 Flensburg)
SUMMARY:Clubabend
URL:https://www.uc-baltic.de/veranstaltungen/kalender/ereignis/1293-clubabe
 nd
END:VEVENT
BEGIN:VEVENT
UID:20260422T123638CEST-76883bDjeR@https://www.uc-baltic.de/
DTSTAMP:20260422T103638Z
DESCRIPTION:Treffen und Einlass: 15:45 Uhr https://www.uc-baltic.de/veranst
 altungen/kalender/ereignis/1321-flossenschwimmen-do-16-00-17-00-uhr
DTSTART:20250206T150000Z
DTEND:20250206T160000Z
LOCATION:Campusbad (Thomas-Fincke-Straße 19\, 24943 Flensburg)
SUMMARY:Flossenschwimmen\, Do 16:00 - 17:00 Uhr
URL:https://www.uc-baltic.de/veranstaltungen/kalender/ereignis/1321-flossen
 schwimmen-do-16-00-17-00-uhr
END:VEVENT
BEGIN:VEVENT
UID:20260422T123638CEST-7690dHhRWX@https://www.uc-baltic.de/
DTSTAMP:20260422T103638Z
DESCRIPTION:Treffen und Einlass: 19:45 Uhr https://www.uc-baltic.de/veranst
 altungen/kalender/ereignis/1335-flossenschwimmen-fr-20-00-21-00-uhr
DTSTART:20250207T190000Z
DTEND:20250207T200000Z
LOCATION:Campusbad (Thomas-Fincke-Straße 19\, 24943 Flensburg)
SUMMARY:Flossenschwimmen\, Fr 20:00 - 21:00 Uhr
URL:https://www.uc-baltic.de/veranstaltungen/kalender/ereignis/1335-flossen
 schwimmen-fr-20-00-21-00-uhr
END:VEVENT
BEGIN:VEVENT
UID:20260422T123638CEST-7692Xozhmi@https://www.uc-baltic.de/
DTSTAMP:20260422T103638Z
DESCRIPTION:Treffen und Einlass: 18:45 Uhr https://www.uc-baltic.de/veranst
 altungen/kalender/ereignis/1347-flossenschwimmen-mo-19-00-20-00-uhr
DTSTART:20250203T180000Z
DTEND:20250203T200000Z
LOCATION:Campusbad (Thomas-Fincke-Straße 19\, 24943 Flensburg)
SUMMARY:Flossenschwimmen\, Mo 19:00 - 20:00 Uhr
URL:https://www.uc-baltic.de/veranstaltungen/kalender/ereignis/1347-flossen
 schwimmen-mo-19-00-20-00-uhr
END:VEVENT
BEGIN:VEVENT
UID:20260422T123638CEST-769474sLMp@https://www.uc-baltic.de/
DTSTAMP:20260422T103638Z
DESCRIPTION:Treffen und Einlass: 19:45 Uhr https://www.uc-baltic.de/veranst
 altungen/kalender/ereignis/1360-flossenschwimmen-mo-20-00-21-00-uhr
DTSTART:20250203T190000Z
DTEND:20250203T200000Z
LOCATION:Campusbad (Thomas-Fincke-Straße 19\, 24943 Flensburg)
SUMMARY:Flossenschwimmen\, Mo 20:00 - 21:00 Uhr
URL:https://www.uc-baltic.de/veranstaltungen/kalender/ereignis/1360-flossen
 schwimmen-mo-20-00-21-00-uhr
END:VEVENT
BEGIN:VEVENT
UID:20260422T123638CEST-7696biGAdU@https://www.uc-baltic.de/
DTSTAMP:20260422T103638Z
DESCRIPTION:Treffen und Einlass: 19:45 Uhr https://www.uc-baltic.de/veranst
 altungen/kalender/ereignis/1373-uw-rugby-mo-20-00-21-00-uhr
DTSTART:20250203T190000Z
DTEND:20250203T200000Z
LOCATION:Campusbad (Thomas-Fincke-Straße 19\, 24943 Flensburg)
SUMMARY:UW-Rugby\, Mo 20:00 - 21:00 Uhr
URL:https://www.uc-baltic.de/veranstaltungen/kalender/ereignis/1373-uw-rugb
 y-mo-20-00-21-00-uhr
END:VEVENT
BEGIN:VEVENT
UID:20260422T123638CEST-76974Vmtl2@https://www.uc-baltic.de/
DTSTAMP:20260422T103638Z
DESCRIPTION:Treffen und Einlass: 18:45 Uhr https://www.uc-baltic.de/veranst
 altungen/kalender/ereignis/1386-flossenschwimmen-di-19-00-20-00-uhr
DTSTART:20250204T180000Z
DTEND:20250204T190000Z
LOCATION:Campusbad (Thomas-Fincke-Straße 19\, 24943 Flensburg)
SUMMARY:Flossenschwimmen\, Di 19:00 - 20:00 Uhr
URL:https://www.uc-baltic.de/veranstaltungen/kalender/ereignis/1386-flossen
 schwimmen-di-19-00-20-00-uhr
END:VEVENT
END:VCALENDAR
