BEGIN:VCALENDAR
VERSION:2.0
PRODID:-//https://www.uc-baltic.de///NONSGML kigkonsult.se iCalcreator 2.10.15//
METHOD:PUBLISH
BEGIN:VEVENT
UID:20260423T112155CEST-0389N0VxXU@https://www.uc-baltic.de/
DTSTAMP:20260423T092155Z
DESCRIPTION: https://www.uc-baltic.de/veranstaltungen/kalender/ereignis/855
 -flossenschwimmen-mo-19-20-uhr
DTSTART:20240129T180000Z
DTEND:20240129T190000Z
LOCATION:Campusbad (Thomas-Fincke-Straße 19\, 24943 Flensburg)
SUMMARY:Flossenschwimmen\, Mo 19 - 20 Uhr
URL:https://www.uc-baltic.de/veranstaltungen/kalender/ereignis/855-flossens
 chwimmen-mo-19-20-uhr
END:VEVENT
BEGIN:VEVENT
UID:20260423T112155CEST-03925opfHC@https://www.uc-baltic.de/
DTSTAMP:20260423T092155Z
DESCRIPTION: https://www.uc-baltic.de/veranstaltungen/kalender/ereignis/867
 -flossenschwimmen-mo-20-21-uhr
DTSTART:20240129T190000Z
DTEND:20240129T200000Z
LOCATION:Campusbad (Thomas-Fincke-Straße 19\, 24943 Flensburg)
SUMMARY:Flossenschwimmen\, Mo 20 - 21 Uhr
URL:https://www.uc-baltic.de/veranstaltungen/kalender/ereignis/867-flossens
 chwimmen-mo-20-21-uhr
END:VEVENT
BEGIN:VEVENT
UID:20260423T112155CEST-0394B6Cdtw@https://www.uc-baltic.de/
DTSTAMP:20260423T092155Z
DESCRIPTION: https://www.uc-baltic.de/veranstaltungen/kalender/ereignis/879
 -uw-rugby-mo-20-21-uhr
DTSTART:20240129T190000Z
DTEND:20240129T200000Z
LOCATION:Campusbad (Thomas-Fincke-Straße 19\, 24943 Flensburg)
SUMMARY:UW-Rugby\, Mo 20 - 21 Uhr
URL:https://www.uc-baltic.de/veranstaltungen/kalender/ereignis/879-uw-rugby
 -mo-20-21-uhr
END:VEVENT
BEGIN:VEVENT
UID:20260423T112155CEST-0396BUbeW4@https://www.uc-baltic.de/
DTSTAMP:20260423T092155Z
DESCRIPTION: https://www.uc-baltic.de/veranstaltungen/kalender/ereignis/891
 -flossenschwimmen-di-19-20-uhr
DTSTART:20240130T180000Z
DTEND:20240130T190000Z
LOCATION:Campusbad (Thomas-Fincke-Straße 19\, 24943 Flensburg)
SUMMARY:Flossenschwimmen\, Di 19 - 20 Uhr
URL:https://www.uc-baltic.de/veranstaltungen/kalender/ereignis/891-flossens
 chwimmen-di-19-20-uhr
END:VEVENT
BEGIN:VEVENT
UID:20260423T112155CEST-0398nPlP0U@https://www.uc-baltic.de/
DTSTAMP:20260423T092155Z
DESCRIPTION: https://www.uc-baltic.de/veranstaltungen/kalender/ereignis/903
 -flossenschwimmen-do-16-17-uhr
DTSTART:20240201T150000Z
DTEND:20240201T160000Z
LOCATION:Campusbad (Thomas-Fincke-Straße 19\, 24943 Flensburg)
SUMMARY:Flossenschwimmen\, Do 16 - 17 Uhr
URL:https://www.uc-baltic.de/veranstaltungen/kalender/ereignis/903-flossens
 chwimmen-do-16-17-uhr
END:VEVENT
END:VCALENDAR
