BEGIN:VCALENDAR
VERSION:2.0
PRODID:-//https://www.uc-baltic.de///NONSGML kigkonsult.se iCalcreator 2.10.15//
METHOD:PUBLISH
BEGIN:VEVENT
UID:20260422T123622CEST-4351fFZvwf@https://www.uc-baltic.de/
DTSTAMP:20260422T103622Z
DESCRIPTION:Treffen und Einlass: 15:45 Uhr https://www.uc-baltic.de/veranst
 altungen/kalender/ereignis/1320-flossenschwimmen-do-16-00-17-00-uhr
DTSTART:20250130T150000Z
DTEND:20250130T160000Z
LOCATION:Campusbad (Thomas-Fincke-Straße 19\, 24943 Flensburg)
SUMMARY:Flossenschwimmen\, Do 16:00 - 17:00 Uhr
URL:https://www.uc-baltic.de/veranstaltungen/kalender/ereignis/1320-flossen
 schwimmen-do-16-00-17-00-uhr
END:VEVENT
BEGIN:VEVENT
UID:20260422T123622CEST-4354vfMveN@https://www.uc-baltic.de/
DTSTAMP:20260422T103622Z
DESCRIPTION:Treffen und Einlass: 19:45 Uhr https://www.uc-baltic.de/veranst
 altungen/kalender/ereignis/1334-flossenschwimmen-fr-20-00-21-00-uhr
DTSTART:20250131T190000Z
DTEND:20250131T200000Z
LOCATION:Campusbad (Thomas-Fincke-Straße 19\, 24943 Flensburg)
SUMMARY:Flossenschwimmen\, Fr 20:00 - 21:00 Uhr
URL:https://www.uc-baltic.de/veranstaltungen/kalender/ereignis/1334-flossen
 schwimmen-fr-20-00-21-00-uhr
END:VEVENT
BEGIN:VEVENT
UID:20260422T123622CEST-4357B3MBHR@https://www.uc-baltic.de/
DTSTAMP:20260422T103622Z
DESCRIPTION:Treffen und Einlass: 18:45 Uhr https://www.uc-baltic.de/veranst
 altungen/kalender/ereignis/1346-flossenschwimmen-mo-19-00-20-00-uhr
DTSTART:20250127T180000Z
DTEND:20250127T200000Z
LOCATION:Campusbad (Thomas-Fincke-Straße 19\, 24943 Flensburg)
SUMMARY:Flossenschwimmen\, Mo 19:00 - 20:00 Uhr
URL:https://www.uc-baltic.de/veranstaltungen/kalender/ereignis/1346-flossen
 schwimmen-mo-19-00-20-00-uhr
END:VEVENT
BEGIN:VEVENT
UID:20260422T123622CEST-43598m9gKb@https://www.uc-baltic.de/
DTSTAMP:20260422T103622Z
DESCRIPTION:Treffen und Einlass: 19:45 Uhr https://www.uc-baltic.de/veranst
 altungen/kalender/ereignis/1359-flossenschwimmen-mo-20-00-21-00-uhr
DTSTART:20250127T190000Z
DTEND:20250127T200000Z
LOCATION:Campusbad (Thomas-Fincke-Straße 19\, 24943 Flensburg)
SUMMARY:Flossenschwimmen\, Mo 20:00 - 21:00 Uhr
URL:https://www.uc-baltic.de/veranstaltungen/kalender/ereignis/1359-flossen
 schwimmen-mo-20-00-21-00-uhr
END:VEVENT
BEGIN:VEVENT
UID:20260422T123622CEST-4362IeI4JN@https://www.uc-baltic.de/
DTSTAMP:20260422T103622Z
DESCRIPTION:Treffen und Einlass: 19:45 Uhr https://www.uc-baltic.de/veranst
 altungen/kalender/ereignis/1372-uw-rugby-mo-20-00-21-00-uhr
DTSTART:20250127T190000Z
DTEND:20250127T200000Z
LOCATION:Campusbad (Thomas-Fincke-Straße 19\, 24943 Flensburg)
SUMMARY:UW-Rugby\, Mo 20:00 - 21:00 Uhr
URL:https://www.uc-baltic.de/veranstaltungen/kalender/ereignis/1372-uw-rugb
 y-mo-20-00-21-00-uhr
END:VEVENT
BEGIN:VEVENT
UID:20260422T123622CEST-4364ztSLkI@https://www.uc-baltic.de/
DTSTAMP:20260422T103622Z
DESCRIPTION:Treffen und Einlass: 18:45 Uhr https://www.uc-baltic.de/veranst
 altungen/kalender/ereignis/1385-flossenschwimmen-di-19-00-20-00-uhr
DTSTART:20250128T180000Z
DTEND:20250128T190000Z
LOCATION:Campusbad (Thomas-Fincke-Straße 19\, 24943 Flensburg)
SUMMARY:Flossenschwimmen\, Di 19:00 - 20:00 Uhr
URL:https://www.uc-baltic.de/veranstaltungen/kalender/ereignis/1385-flossen
 schwimmen-di-19-00-20-00-uhr
END:VEVENT
END:VCALENDAR
