BEGIN:VCALENDAR
VERSION:2.0
PRODID:-//https://www.uc-baltic.de///NONSGML kigkonsult.se iCalcreator 2.10.15//
METHOD:PUBLISH
BEGIN:VEVENT
UID:20260419T163223CEST-2982PE7Wfw@https://www.uc-baltic.de/
DTSTAMP:20260419T143223Z
DESCRIPTION: https://www.uc-baltic.de/veranstaltungen/kalender/ereignis/172
 2-flossenschwimmen-mo-19-00-20-00-uhr
DTSTART:20260126T180000Z
DTEND:20260126T190000Z
LOCATION:Campusbad (Thomas-Fincke-Straße 19\, 24943 Flensburg)
SUMMARY:Flossenschwimmen\, Mo 19:00 - 20:00 Uhr
URL:https://www.uc-baltic.de/veranstaltungen/kalender/ereignis/1722-flossen
 schwimmen-mo-19-00-20-00-uhr
END:VEVENT
BEGIN:VEVENT
UID:20260419T163223CEST-2986XG3aKv@https://www.uc-baltic.de/
DTSTAMP:20260419T143223Z
DESCRIPTION: https://www.uc-baltic.de/veranstaltungen/kalender/ereignis/173
 4-flossenschwimmen-mo-20-00-21-00-uhr
DTSTART:20260126T190000Z
DTEND:20260126T200000Z
LOCATION:Campusbad (Thomas-Fincke-Straße 19\, 24943 Flensburg)
SUMMARY:Flossenschwimmen\, Mo 20:00 - 21:00 Uhr
URL:https://www.uc-baltic.de/veranstaltungen/kalender/ereignis/1734-flossen
 schwimmen-mo-20-00-21-00-uhr
END:VEVENT
BEGIN:VEVENT
UID:20260419T163223CEST-2989xusRId@https://www.uc-baltic.de/
DTSTAMP:20260419T143223Z
DESCRIPTION: https://www.uc-baltic.de/veranstaltungen/kalender/ereignis/174
 7-uw-rugby-mo-20-00-21-00-uhr
DTSTART:20260126T190000Z
DTEND:20260126T200000Z
LOCATION:Campusbad (Thomas-Fincke-Straße 19\, 24943 Flensburg)
SUMMARY:UW-Rugby\, Mo 20:00 -21:00 Uhr
URL:https://www.uc-baltic.de/veranstaltungen/kalender/ereignis/1747-uw-rugb
 y-mo-20-00-21-00-uhr
END:VEVENT
BEGIN:VEVENT
UID:20260419T163223CEST-2991AGgjou@https://www.uc-baltic.de/
DTSTAMP:20260419T143223Z
DESCRIPTION: https://www.uc-baltic.de/veranstaltungen/kalender/ereignis/175
 9-flossenschwimmen-di-19-00-20-00-uhr
DTSTART:20260127T180000Z
DTEND:20260127T190000Z
LOCATION:Campusbad (Thomas-Fincke-Straße 19\, 24943 Flensburg)
SUMMARY:Flossenschwimmen\, Di 19:00 - 20:00 Uhr
URL:https://www.uc-baltic.de/veranstaltungen/kalender/ereignis/1759-flossen
 schwimmen-di-19-00-20-00-uhr
END:VEVENT
BEGIN:VEVENT
UID:20260419T163223CEST-2994Z8d4hH@https://www.uc-baltic.de/
DTSTAMP:20260419T143223Z
DESCRIPTION: https://www.uc-baltic.de/veranstaltungen/kalender/ereignis/177
 1-flossenschwimmen-do-16-00-17-00-uhr
DTSTART:20260129T150000Z
DTEND:20260129T160000Z
LOCATION:Campusbad (Thomas-Fincke-Straße 19\, 24943 Flensburg)
SUMMARY:Flossenschwimmen\, Do 16:00 - 17:00 Uhr
URL:https://www.uc-baltic.de/veranstaltungen/kalender/ereignis/1771-flossen
 schwimmen-do-16-00-17-00-uhr
END:VEVENT
BEGIN:VEVENT
UID:20260419T163223CEST-2996VI8lK9@https://www.uc-baltic.de/
DTSTAMP:20260419T143223Z
DESCRIPTION: https://www.uc-baltic.de/veranstaltungen/kalender/ereignis/178
 2-flossenschwimmen-fr-20-00-21-00-uhr
DTSTART:20260130T190000Z
DTEND:20260130T200000Z
LOCATION:Campusbad (Thomas-Fincke-Straße 19\, 24943 Flensburg)
SUMMARY:Flossenschwimmen\, Fr 20:00 - 21:00 Uhr
URL:https://www.uc-baltic.de/veranstaltungen/kalender/ereignis/1782-flossen
 schwimmen-fr-20-00-21-00-uhr
END:VEVENT
END:VCALENDAR
