BEGIN:VCALENDAR
VERSION:2.0
PRODID:-//https://www.uc-baltic.de///NONSGML kigkonsult.se iCalcreator 2.10.15//
METHOD:PUBLISH
BEGIN:VEVENT
UID:20260423T130105CEST-1309xiWOxr@https://www.uc-baltic.de/
DTSTAMP:20260423T110105Z
DESCRIPTION: https://www.uc-baltic.de/veranstaltungen/kalender/ereignis/854
 -flossenschwimmen-mo-19-20-uhr
DTSTART:20240122T180000Z
DTEND:20240122T190000Z
LOCATION:Campusbad (Thomas-Fincke-Straße 19\, 24943 Flensburg)
SUMMARY:Flossenschwimmen\, Mo 19 - 20 Uhr
URL:https://www.uc-baltic.de/veranstaltungen/kalender/ereignis/854-flossens
 chwimmen-mo-19-20-uhr
END:VEVENT
BEGIN:VEVENT
UID:20260423T130105CEST-13131eap8T@https://www.uc-baltic.de/
DTSTAMP:20260423T110105Z
DESCRIPTION: https://www.uc-baltic.de/veranstaltungen/kalender/ereignis/866
 -flossenschwimmen-mo-20-21-uhr
DTSTART:20240122T190000Z
DTEND:20240122T200000Z
LOCATION:Campusbad (Thomas-Fincke-Straße 19\, 24943 Flensburg)
SUMMARY:Flossenschwimmen\, Mo 20 - 21 Uhr
URL:https://www.uc-baltic.de/veranstaltungen/kalender/ereignis/866-flossens
 chwimmen-mo-20-21-uhr
END:VEVENT
BEGIN:VEVENT
UID:20260423T130105CEST-1314RtzOS4@https://www.uc-baltic.de/
DTSTAMP:20260423T110105Z
DESCRIPTION: https://www.uc-baltic.de/veranstaltungen/kalender/ereignis/878
 -uw-rugby-mo-20-21-uhr
DTSTART:20240122T190000Z
DTEND:20240122T200000Z
LOCATION:Campusbad (Thomas-Fincke-Straße 19\, 24943 Flensburg)
SUMMARY:UW-Rugby\, Mo 20 - 21 Uhr
URL:https://www.uc-baltic.de/veranstaltungen/kalender/ereignis/878-uw-rugby
 -mo-20-21-uhr
END:VEVENT
BEGIN:VEVENT
UID:20260423T130105CEST-13165mGvoo@https://www.uc-baltic.de/
DTSTAMP:20260423T110105Z
DESCRIPTION: https://www.uc-baltic.de/veranstaltungen/kalender/ereignis/890
 -flossenschwimmen-di-19-20-uhr
DTSTART:20240123T180000Z
DTEND:20240123T190000Z
LOCATION:Campusbad (Thomas-Fincke-Straße 19\, 24943 Flensburg)
SUMMARY:Flossenschwimmen\, Di 19 - 20 Uhr
URL:https://www.uc-baltic.de/veranstaltungen/kalender/ereignis/890-flossens
 chwimmen-di-19-20-uhr
END:VEVENT
BEGIN:VEVENT
UID:20260423T130105CEST-1317czmEKz@https://www.uc-baltic.de/
DTSTAMP:20260423T110105Z
DESCRIPTION: https://www.uc-baltic.de/veranstaltungen/kalender/ereignis/902
 -flossenschwimmen-do-16-17-uhr
DTSTART:20240125T150000Z
DTEND:20240125T160000Z
LOCATION:Campusbad (Thomas-Fincke-Straße 19\, 24943 Flensburg)
SUMMARY:Flossenschwimmen\, Do 16 - 17 Uhr
URL:https://www.uc-baltic.de/veranstaltungen/kalender/ereignis/902-flossens
 chwimmen-do-16-17-uhr
END:VEVENT
END:VCALENDAR
