BEGIN:VCALENDAR
VERSION:2.0
PRODID:-//https://www.uc-baltic.de///NONSGML kigkonsult.se iCalcreator 2.10.15//
METHOD:PUBLISH
BEGIN:VEVENT
UID:20260422T141923CEST-26616s8uwk@https://www.uc-baltic.de/
DTSTAMP:20260422T121923Z
DESCRIPTION: https://www.uc-baltic.de/veranstaltungen/kalender/ereignis/129
 2-clubabend
DTSTART:20250124T180000Z
DTEND:20250124T225900Z
LOCATION:Unterwasserclub Baltic e.V.  (Fahrensodde 20\, 24944 Flensburg)
SUMMARY:Clubabend
URL:https://www.uc-baltic.de/veranstaltungen/kalender/ereignis/1292-clubabe
 nd
END:VEVENT
BEGIN:VEVENT
UID:20260422T141923CEST-2665juNUhG@https://www.uc-baltic.de/
DTSTAMP:20260422T121923Z
DESCRIPTION:Treffen und Einlass: 15:45 Uhr https://www.uc-baltic.de/veranst
 altungen/kalender/ereignis/1319-flossenschwimmen-do-16-00-17-00-uhr
DTSTART:20250123T150000Z
DTEND:20250123T160000Z
LOCATION:Campusbad (Thomas-Fincke-Straße 19\, 24943 Flensburg)
SUMMARY:Flossenschwimmen\, Do 16:00 - 17:00 Uhr
URL:https://www.uc-baltic.de/veranstaltungen/kalender/ereignis/1319-flossen
 schwimmen-do-16-00-17-00-uhr
END:VEVENT
BEGIN:VEVENT
UID:20260422T141923CEST-2666NJHPPN@https://www.uc-baltic.de/
DTSTAMP:20260422T121923Z
DESCRIPTION:Treffen und Einlass: 19:45 Uhr https://www.uc-baltic.de/veranst
 altungen/kalender/ereignis/1333-flossenschwimmen-fr-20-00-21-00-uhr
DTSTART:20250124T190000Z
DTEND:20250124T200000Z
LOCATION:Campusbad (Thomas-Fincke-Straße 19\, 24943 Flensburg)
SUMMARY:Flossenschwimmen\, Fr 20:00 - 21:00 Uhr
URL:https://www.uc-baltic.de/veranstaltungen/kalender/ereignis/1333-flossen
 schwimmen-fr-20-00-21-00-uhr
END:VEVENT
BEGIN:VEVENT
UID:20260422T141923CEST-2668mh0Czu@https://www.uc-baltic.de/
DTSTAMP:20260422T121923Z
DESCRIPTION:Treffen und Einlass: 18:45 Uhr https://www.uc-baltic.de/veranst
 altungen/kalender/ereignis/1345-flossenschwimmen-mo-19-00-20-00-uhr
DTSTART:20250120T180000Z
DTEND:20250120T200000Z
LOCATION:Campusbad (Thomas-Fincke-Straße 19\, 24943 Flensburg)
SUMMARY:Flossenschwimmen\, Mo 19:00 - 20:00 Uhr
URL:https://www.uc-baltic.de/veranstaltungen/kalender/ereignis/1345-flossen
 schwimmen-mo-19-00-20-00-uhr
END:VEVENT
BEGIN:VEVENT
UID:20260422T141923CEST-2670ebBdVm@https://www.uc-baltic.de/
DTSTAMP:20260422T121923Z
DESCRIPTION:Treffen und Einlass: 19:45 Uhr https://www.uc-baltic.de/veranst
 altungen/kalender/ereignis/1358-flossenschwimmen-mo-20-00-21-00-uhr
DTSTART:20250120T190000Z
DTEND:20250120T200000Z
LOCATION:Campusbad (Thomas-Fincke-Straße 19\, 24943 Flensburg)
SUMMARY:Flossenschwimmen\, Mo 20:00 - 21:00 Uhr
URL:https://www.uc-baltic.de/veranstaltungen/kalender/ereignis/1358-flossen
 schwimmen-mo-20-00-21-00-uhr
END:VEVENT
BEGIN:VEVENT
UID:20260422T141923CEST-2671jK3o4G@https://www.uc-baltic.de/
DTSTAMP:20260422T121923Z
DESCRIPTION:Treffen und Einlass: 19:45 Uhr https://www.uc-baltic.de/veranst
 altungen/kalender/ereignis/1371-uw-rugby-mo-20-00-21-00-uhr
DTSTART:20250120T190000Z
DTEND:20250120T200000Z
LOCATION:Campusbad (Thomas-Fincke-Straße 19\, 24943 Flensburg)
SUMMARY:UW-Rugby\, Mo 20:00 - 21:00 Uhr
URL:https://www.uc-baltic.de/veranstaltungen/kalender/ereignis/1371-uw-rugb
 y-mo-20-00-21-00-uhr
END:VEVENT
BEGIN:VEVENT
UID:20260422T141923CEST-2673gUzoW6@https://www.uc-baltic.de/
DTSTAMP:20260422T121923Z
DESCRIPTION:Treffen und Einlass: 18:45 Uhr https://www.uc-baltic.de/veranst
 altungen/kalender/ereignis/1384-flossenschwimmen-di-19-00-20-00-uhr
DTSTART:20250121T180000Z
DTEND:20250121T190000Z
LOCATION:Campusbad (Thomas-Fincke-Straße 19\, 24943 Flensburg)
SUMMARY:Flossenschwimmen\, Di 19:00 - 20:00 Uhr
URL:https://www.uc-baltic.de/veranstaltungen/kalender/ereignis/1384-flossen
 schwimmen-di-19-00-20-00-uhr
END:VEVENT
END:VCALENDAR
