BEGIN:VCALENDAR
VERSION:2.0
PRODID:-//https://www.uc-baltic.de///NONSGML kigkonsult.se iCalcreator 2.10.15//
METHOD:PUBLISH
BEGIN:VEVENT
UID:20260419T175945CEST-0885GGfT44@https://www.uc-baltic.de/
DTSTAMP:20260419T155945Z
DESCRIPTION: https://www.uc-baltic.de/veranstaltungen/kalender/ereignis/172
 1-flossenschwimmen-mo-19-00-20-00-uhr
DTSTART:20260119T180000Z
DTEND:20260119T190000Z
LOCATION:Campusbad (Thomas-Fincke-Straße 19\, 24943 Flensburg)
SUMMARY:Flossenschwimmen\, Mo 19:00 - 20:00 Uhr
URL:https://www.uc-baltic.de/veranstaltungen/kalender/ereignis/1721-flossen
 schwimmen-mo-19-00-20-00-uhr
END:VEVENT
BEGIN:VEVENT
UID:20260419T175945CEST-0889nsdJM2@https://www.uc-baltic.de/
DTSTAMP:20260419T155945Z
DESCRIPTION: https://www.uc-baltic.de/veranstaltungen/kalender/ereignis/173
 3-flossenschwimmen-mo-20-00-21-00-uhr
DTSTART:20260119T190000Z
DTEND:20260119T200000Z
LOCATION:Campusbad (Thomas-Fincke-Straße 19\, 24943 Flensburg)
SUMMARY:Flossenschwimmen\, Mo 20:00 - 21:00 Uhr
URL:https://www.uc-baltic.de/veranstaltungen/kalender/ereignis/1733-flossen
 schwimmen-mo-20-00-21-00-uhr
END:VEVENT
BEGIN:VEVENT
UID:20260419T175945CEST-0891fxSHC2@https://www.uc-baltic.de/
DTSTAMP:20260419T155945Z
DESCRIPTION: https://www.uc-baltic.de/veranstaltungen/kalender/ereignis/174
 6-uw-rugby-mo-20-00-21-00-uhr
DTSTART:20260119T190000Z
DTEND:20260119T200000Z
LOCATION:Campusbad (Thomas-Fincke-Straße 19\, 24943 Flensburg)
SUMMARY:UW-Rugby\, Mo 20:00 -21:00 Uhr
URL:https://www.uc-baltic.de/veranstaltungen/kalender/ereignis/1746-uw-rugb
 y-mo-20-00-21-00-uhr
END:VEVENT
BEGIN:VEVENT
UID:20260419T175945CEST-0893zOnuz7@https://www.uc-baltic.de/
DTSTAMP:20260419T155945Z
DESCRIPTION: https://www.uc-baltic.de/veranstaltungen/kalender/ereignis/175
 8-flossenschwimmen-di-19-00-20-00-uhr
DTSTART:20260120T180000Z
DTEND:20260120T190000Z
LOCATION:Campusbad (Thomas-Fincke-Straße 19\, 24943 Flensburg)
SUMMARY:Flossenschwimmen\, Di 19:00 - 20:00 Uhr
URL:https://www.uc-baltic.de/veranstaltungen/kalender/ereignis/1758-flossen
 schwimmen-di-19-00-20-00-uhr
END:VEVENT
BEGIN:VEVENT
UID:20260419T175945CEST-0896vvuCU8@https://www.uc-baltic.de/
DTSTAMP:20260419T155945Z
DESCRIPTION: https://www.uc-baltic.de/veranstaltungen/kalender/ereignis/177
 0-flossenschwimmen-do-16-00-17-00-uhr
DTSTART:20260122T150000Z
DTEND:20260122T160000Z
LOCATION:Campusbad (Thomas-Fincke-Straße 19\, 24943 Flensburg)
SUMMARY:Flossenschwimmen\, Do 16:00 - 17:00 Uhr
URL:https://www.uc-baltic.de/veranstaltungen/kalender/ereignis/1770-flossen
 schwimmen-do-16-00-17-00-uhr
END:VEVENT
BEGIN:VEVENT
UID:20260419T175945CEST-0898ux1FkK@https://www.uc-baltic.de/
DTSTAMP:20260419T155945Z
DESCRIPTION: https://www.uc-baltic.de/veranstaltungen/kalender/ereignis/178
 1-flossenschwimmen-fr-20-00-21-00-uhr
DTSTART:20260123T190000Z
DTEND:20260123T200000Z
LOCATION:Campusbad (Thomas-Fincke-Straße 19\, 24943 Flensburg)
SUMMARY:Flossenschwimmen\, Fr 20:00 - 21:00 Uhr
URL:https://www.uc-baltic.de/veranstaltungen/kalender/ereignis/1781-flossen
 schwimmen-fr-20-00-21-00-uhr
END:VEVENT
BEGIN:VEVENT
UID:20260419T175945CEST-0900ocVHmF@https://www.uc-baltic.de/
DTSTAMP:20260419T155945Z
DESCRIPTION: https://www.uc-baltic.de/veranstaltungen/kalender/ereignis/179
 9-ausbildung-dtsa
DTSTART:20260124T130000Z
DTEND:20260124T170000Z
LOCATION:Clubheim ()
SUMMARY:Ausbildung DTSA*
URL:https://www.uc-baltic.de/veranstaltungen/kalender/ereignis/1799-ausbild
 ung-dtsa
END:VEVENT
END:VCALENDAR
