BEGIN:VCALENDAR
VERSION:2.0
PRODID:-//https://www.uc-baltic.de///NONSGML kigkonsult.se iCalcreator 2.10.15//
METHOD:PUBLISH
BEGIN:VEVENT
UID:20260423T124936CEST-5363VU88OU@https://www.uc-baltic.de/
DTSTAMP:20260423T104936Z
DESCRIPTION: https://www.uc-baltic.de/veranstaltungen/kalender/ereignis/865
 -flossenschwimmen-mo-20-21-uhr
DTSTART:20240115T190000Z
DTEND:20240115T200000Z
LOCATION:Campusbad (Thomas-Fincke-Straße 19\, 24943 Flensburg)
SUMMARY:Flossenschwimmen\, Mo 20 - 21 Uhr
URL:https://www.uc-baltic.de/veranstaltungen/kalender/ereignis/865-flossens
 chwimmen-mo-20-21-uhr
END:VEVENT
BEGIN:VEVENT
UID:20260423T124936CEST-5366Fw5fNU@https://www.uc-baltic.de/
DTSTAMP:20260423T104936Z
DESCRIPTION: https://www.uc-baltic.de/veranstaltungen/kalender/ereignis/877
 -uw-rugby-mo-20-21-uhr
DTSTART:20240115T190000Z
DTEND:20240115T200000Z
LOCATION:Campusbad (Thomas-Fincke-Straße 19\, 24943 Flensburg)
SUMMARY:UW-Rugby\, Mo 20 - 21 Uhr
URL:https://www.uc-baltic.de/veranstaltungen/kalender/ereignis/877-uw-rugby
 -mo-20-21-uhr
END:VEVENT
BEGIN:VEVENT
UID:20260423T124936CEST-5368cMSV18@https://www.uc-baltic.de/
DTSTAMP:20260423T104936Z
DESCRIPTION: https://www.uc-baltic.de/veranstaltungen/kalender/ereignis/889
 -flossenschwimmen-di-19-20-uhr
DTSTART:20240116T180000Z
DTEND:20240116T190000Z
LOCATION:Campusbad (Thomas-Fincke-Straße 19\, 24943 Flensburg)
SUMMARY:Flossenschwimmen\, Di 19 - 20 Uhr
URL:https://www.uc-baltic.de/veranstaltungen/kalender/ereignis/889-flossens
 chwimmen-di-19-20-uhr
END:VEVENT
BEGIN:VEVENT
UID:20260423T124936CEST-5369g2UuT0@https://www.uc-baltic.de/
DTSTAMP:20260423T104936Z
DESCRIPTION: https://www.uc-baltic.de/veranstaltungen/kalender/ereignis/901
 -flossenschwimmen-do-16-17-uhr
DTSTART:20240118T150000Z
DTEND:20240118T160000Z
LOCATION:Campusbad (Thomas-Fincke-Straße 19\, 24943 Flensburg)
SUMMARY:Flossenschwimmen\, Do 16 - 17 Uhr
URL:https://www.uc-baltic.de/veranstaltungen/kalender/ereignis/901-flossens
 chwimmen-do-16-17-uhr
END:VEVENT
END:VCALENDAR
