BEGIN:VCALENDAR
VERSION:2.0
PRODID:-//https://www.uc-baltic.de///NONSGML kigkonsult.se iCalcreator 2.10.15//
METHOD:PUBLISH
BEGIN:VEVENT
UID:20260423T124839CEST-4460HD8LOr@https://www.uc-baltic.de/
DTSTAMP:20260423T104839Z
DESCRIPTION: https://www.uc-baltic.de/veranstaltungen/kalender/ereignis/851
 -clubabend
DTSTART:20240112T190000Z
DTEND:20240112T220000Z
LOCATION:Clubheim UC Baltic ()
SUMMARY:Clubabend
URL:https://www.uc-baltic.de/veranstaltungen/kalender/ereignis/851-clubaben
 d
END:VEVENT
BEGIN:VEVENT
UID:20260423T124839CEST-4463Nom0VT@https://www.uc-baltic.de/
DTSTAMP:20260423T104839Z
DESCRIPTION: https://www.uc-baltic.de/veranstaltungen/kalender/ereignis/852
 -flossenschwimmen-mo-19-20-uhr
DTSTART:20240108T180000Z
DTEND:20240108T190000Z
LOCATION:Campusbad (Thomas-Fincke-Straße 19\, 24943 Flensburg)
SUMMARY:Flossenschwimmen\, Mo 19 - 20 Uhr
URL:https://www.uc-baltic.de/veranstaltungen/kalender/ereignis/852-flossens
 chwimmen-mo-19-20-uhr
END:VEVENT
BEGIN:VEVENT
UID:20260423T124839CEST-4466KEIspr@https://www.uc-baltic.de/
DTSTAMP:20260423T104839Z
DESCRIPTION: https://www.uc-baltic.de/veranstaltungen/kalender/ereignis/864
 -flossenschwimmen-mo-20-21-uhr
DTSTART:20240108T190000Z
DTEND:20240108T200000Z
LOCATION:Campusbad (Thomas-Fincke-Straße 19\, 24943 Flensburg)
SUMMARY:Flossenschwimmen\, Mo 20 - 21 Uhr
URL:https://www.uc-baltic.de/veranstaltungen/kalender/ereignis/864-flossens
 chwimmen-mo-20-21-uhr
END:VEVENT
BEGIN:VEVENT
UID:20260423T124839CEST-4468DVJSbV@https://www.uc-baltic.de/
DTSTAMP:20260423T104839Z
DESCRIPTION: https://www.uc-baltic.de/veranstaltungen/kalender/ereignis/888
 -flossenschwimmen-di-19-20-uhr
DTSTART:20240109T180000Z
DTEND:20240109T190000Z
LOCATION:Campusbad (Thomas-Fincke-Straße 19\, 24943 Flensburg)
SUMMARY:Flossenschwimmen\, Di 19 - 20 Uhr
URL:https://www.uc-baltic.de/veranstaltungen/kalender/ereignis/888-flossens
 chwimmen-di-19-20-uhr
END:VEVENT
BEGIN:VEVENT
UID:20260423T124839CEST-4470awJIc1@https://www.uc-baltic.de/
DTSTAMP:20260423T104839Z
DESCRIPTION: https://www.uc-baltic.de/veranstaltungen/kalender/ereignis/900
 -flossenschwimmen-do-16-17-uhr
DTSTART:20240111T150000Z
DTEND:20240111T160000Z
LOCATION:Campusbad (Thomas-Fincke-Straße 19\, 24943 Flensburg)
SUMMARY:Flossenschwimmen\, Do 16 - 17 Uhr
URL:https://www.uc-baltic.de/veranstaltungen/kalender/ereignis/900-flossens
 chwimmen-do-16-17-uhr
END:VEVENT
END:VCALENDAR
