BEGIN:VCALENDAR
VERSION:2.0
PRODID:-//https://www.uc-baltic.de///NONSGML kigkonsult.se iCalcreator 2.10.15//
METHOD:PUBLISH
BEGIN:VEVENT
UID:20260419T175946CEST-1020ejFAVM@https://www.uc-baltic.de/
DTSTAMP:20260419T155946Z
DESCRIPTION: https://www.uc-baltic.de/veranstaltungen/kalender/ereignis/171
 9-flossenschwimmen-mo-19-00-20-00-uhr
DTSTART:20260105T180000Z
DTEND:20260105T190000Z
LOCATION:Campusbad (Thomas-Fincke-Straße 19\, 24943 Flensburg)
SUMMARY:Flossenschwimmen\, Mo 19:00 - 20:00 Uhr
URL:https://www.uc-baltic.de/veranstaltungen/kalender/ereignis/1719-flossen
 schwimmen-mo-19-00-20-00-uhr
END:VEVENT
BEGIN:VEVENT
UID:20260419T175946CEST-1024u4WIVu@https://www.uc-baltic.de/
DTSTAMP:20260419T155946Z
DESCRIPTION: https://www.uc-baltic.de/veranstaltungen/kalender/ereignis/173
 1-flossenschwimmen-mo-20-00-21-00-uhr
DTSTART:20260105T190000Z
DTEND:20260105T200000Z
LOCATION:Campusbad (Thomas-Fincke-Straße 19\, 24943 Flensburg)
SUMMARY:Flossenschwimmen\, Mo 20:00 - 21:00 Uhr
URL:https://www.uc-baltic.de/veranstaltungen/kalender/ereignis/1731-flossen
 schwimmen-mo-20-00-21-00-uhr
END:VEVENT
BEGIN:VEVENT
UID:20260419T175946CEST-10278VHsjp@https://www.uc-baltic.de/
DTSTAMP:20260419T155946Z
DESCRIPTION: https://www.uc-baltic.de/veranstaltungen/kalender/ereignis/174
 4-uw-rugby-mo-20-00-21-00-uhr
DTSTART:20260105T190000Z
DTEND:20260105T200000Z
LOCATION:Campusbad (Thomas-Fincke-Straße 19\, 24943 Flensburg)
SUMMARY:UW-Rugby\, Mo 20:00 -21:00 Uhr
URL:https://www.uc-baltic.de/veranstaltungen/kalender/ereignis/1744-uw-rugb
 y-mo-20-00-21-00-uhr
END:VEVENT
BEGIN:VEVENT
UID:20260419T175946CEST-1030dFK3dx@https://www.uc-baltic.de/
DTSTAMP:20260419T155946Z
DESCRIPTION: https://www.uc-baltic.de/veranstaltungen/kalender/ereignis/175
 6-flossenschwimmen-di-19-00-20-00-uhr
DTSTART:20260106T180000Z
DTEND:20260106T190000Z
LOCATION:Campusbad (Thomas-Fincke-Straße 19\, 24943 Flensburg)
SUMMARY:Flossenschwimmen\, Di 19:00 - 20:00 Uhr
URL:https://www.uc-baltic.de/veranstaltungen/kalender/ereignis/1756-flossen
 schwimmen-di-19-00-20-00-uhr
END:VEVENT
BEGIN:VEVENT
UID:20260419T175946CEST-10320FghmE@https://www.uc-baltic.de/
DTSTAMP:20260419T155946Z
DESCRIPTION: https://www.uc-baltic.de/veranstaltungen/kalender/ereignis/176
 8-flossenschwimmen-do-16-00-17-00-uhr
DTSTART:20260108T150000Z
DTEND:20260108T160000Z
LOCATION:Campusbad (Thomas-Fincke-Straße 19\, 24943 Flensburg)
SUMMARY:Flossenschwimmen\, Do 16:00 - 17:00 Uhr
URL:https://www.uc-baltic.de/veranstaltungen/kalender/ereignis/1768-flossen
 schwimmen-do-16-00-17-00-uhr
END:VEVENT
BEGIN:VEVENT
UID:20260419T175946CEST-1035ODV6jJ@https://www.uc-baltic.de/
DTSTAMP:20260419T155946Z
DESCRIPTION: https://www.uc-baltic.de/veranstaltungen/kalender/ereignis/177
 9-flossenschwimmen-fr-20-00-21-00-uhr
DTSTART:20260109T190000Z
DTEND:20260109T200000Z
LOCATION:Campusbad (Thomas-Fincke-Straße 19\, 24943 Flensburg)
SUMMARY:Flossenschwimmen\, Fr 20:00 - 21:00 Uhr
URL:https://www.uc-baltic.de/veranstaltungen/kalender/ereignis/1779-flossen
 schwimmen-fr-20-00-21-00-uhr
END:VEVENT
END:VCALENDAR
