BEGIN:VCALENDAR
VERSION:2.0
PRODID:-//https://www.uc-baltic.de///NONSGML kigkonsult.se iCalcreator 2.10.15//
METHOD:PUBLISH
BEGIN:VEVENT
UID:20260423T074708CEST-6649V9GSTj@https://www.uc-baltic.de/
DTSTAMP:20260423T054708Z
DESCRIPTION: https://www.uc-baltic.de/veranstaltungen/kalender/ereignis/998
 -flossenschwimmen-do-16-17-uhr-bahn-5-flacher-bereich
DTSTART:20240418T140000Z
DTEND:20240418T150000Z
LOCATION:Campusbad (Thomas-Fincke-Straße 19\, 24943 Flensburg)
SUMMARY:Flossenschwimmen\, Do\, 16 - 17 Uhr\, Bahn 5\, flacher Bereich
URL:https://www.uc-baltic.de/veranstaltungen/kalender/ereignis/998-flossens
 chwimmen-do-16-17-uhr-bahn-5-flacher-bereich
END:VEVENT
END:VCALENDAR
