BEGIN:VCALENDAR
VERSION:2.0
PRODID:-//https://www.uc-baltic.de///NONSGML kigkonsult.se iCalcreator 2.10.15//
METHOD:PUBLISH
BEGIN:VEVENT
UID:20260423T074708CEST-1743m47zhm@https://www.uc-baltic.de/
DTSTAMP:20260423T054708Z
DESCRIPTION: https://www.uc-baltic.de/veranstaltungen/kalender/ereignis/992
 -uw-rugby-mo-20-21-uhr-bahn-7-u-8-tiefer-bereich
DTSTART:20240415T180000Z
DTEND:20240415T190000Z
LOCATION:Unterwasserclub Baltic e.V.  (Fahrensodde 20\, 24944 Flensburg)
SUMMARY:UW-Rugby\, Mo 20 - 21 Uhr\, Bahn 7 u. 8\, tiefer Bereich
URL:https://www.uc-baltic.de/veranstaltungen/kalender/ereignis/992-uw-rugby
 -mo-20-21-uhr-bahn-7-u-8-tiefer-bereich
END:VEVENT
END:VCALENDAR
