BEGIN:VCALENDAR
VERSION:2.0
PRODID:-//https://www.uc-baltic.de///NONSGML kigkonsult.se iCalcreator 2.10.15//
METHOD:PUBLISH
BEGIN:VEVENT
UID:20260423T071828CEST-8725jLtnMo@https://www.uc-baltic.de/
DTSTAMP:20260423T051828Z
DESCRIPTION: https://www.uc-baltic.de/veranstaltungen/kalender/ereignis/972
 -uw-rugby-mo-20-21-uhr
DTSTART:20240325T190000Z
DTEND:20240325T200000Z
LOCATION:Campusbad (Thomas-Fincke-Straße 19\, 24943 Flensburg)
SUMMARY:UW-Rugby\, Mo 20 - 21 Uhr
URL:https://www.uc-baltic.de/veranstaltungen/kalender/ereignis/972-uw-rugby
 -mo-20-21-uhr
END:VEVENT
END:VCALENDAR
