BEGIN:VCALENDAR
VERSION:2.0
PRODID:-//https://www.uc-baltic.de///NONSGML kigkonsult.se iCalcreator 2.10.15//
METHOD:PUBLISH
BEGIN:VEVENT
UID:20260423T093248CEST-6966ujER6w@https://www.uc-baltic.de/
DTSTAMP:20260423T073248Z
DESCRIPTION:Bei Schnuppertauchen bitte gegenseitig Rücksicht nehmen. Die Ta
 ucher übernehmen keine Beckenaufsicht!! Eine Bitte des Campusbades\, dass 
 bitte einer die Schlüssel für die gesamte Gruppe an der Kasse abholen. htt
 ps://www.uc-baltic.de/veranstaltungen/kalender/ereignis/935-flossenschwimm
 en-fr-20-21-uhr-bahn-5
DTSTART:20240301T190000Z
DTEND:20240301T200000Z
LOCATION:Campusbad (Thomas-Fincke-Straße 19\, 24943 Flensburg)
SUMMARY:Flossenschwimmen\, Fr 20 -21 Uhr\, Bahn 5
URL:https://www.uc-baltic.de/veranstaltungen/kalender/ereignis/935-flossens
 chwimmen-fr-20-21-uhr-bahn-5
END:VEVENT
END:VCALENDAR
