BEGIN:VCALENDAR
VERSION:2.0
PRODID:-//https://www.uc-baltic.de///NONSGML kigkonsult.se iCalcreator 2.10.15//
METHOD:PUBLISH
BEGIN:VEVENT
UID:20260423T035311CEST-4386NZjtBE@https://www.uc-baltic.de/
DTSTAMP:20260423T015311Z
DESCRIPTION:Moin liebe Mitglieder\, von Fr. den 31.05.24 bis zum So. den 02
 .06.24\, planen wir ein Tauchwochenende in Middelfart\, auf dem Campingpla
 tz Galsklint\, mit Übernachtung. Middelfart hat für Taucher einiges zu bie
 ten\, Strömung\, Tiefe und maritimes Leben sowie schön bewachsene Steilwän
 de. Und das ist nicht nur für alte Hasen interessant\, sondern auch für An
 fänger gibt es einiges zu entdecken\, ggf. zusammen mit einem erfahrenen T
 aucher. Es müssen nicht immer 30m sein.Außerdem werden wir unser Boot mitn
 ehmen\, sodass Tauchplätze bequem mit dem Boot angefahren werden können. A
 uch „one way“ Tauchgänge mit der Strömung sind machbar. Ebenso natürlich T
 auchgänge von Land aus. Das werden wir mit den Teilnehmern vor Ort abstimm
 en\, wer welche Vorlieben oder Wünsche hat und was möglich ist. Das Boot s
 teht voraussichtlich von Freitagabend bis Sonntagmittag zur Verfügung. Dar
 über hinaus kann auf eigene Faust von Land aus getaucht werden. Die Kosten
  für das Boot werden aus Spenden finanziert\, hier entstehen euch keine we
 iteren Kosten. An der Stelle nochmal Dank an Jochen für die Beschaffung.Üb
 ernachtet wird auf dem Campingplatz\, hier stehen neben den üblichen Optio
 nen Wohnwagen\, Wohnmobil\, Zelt oder Auto auch verschiedene Hütten zur Au
 swahl. Schaut unter dem Link\, was euch am besten zusagt. Buchen müsst ihr
  selbst. Es gibt aber die Möglichkeit\, sich für die Veranstaltung anzumel
 den und sich mit anderen zusammenzuschließen\, um eine der Hütten zu miete
 n. Weil die Frage schon aufkam\, noch ein Hinweis. Bei den Fahrradhütten s
 ind schon zwei Personen inklusive. Bei den anderen Hütten kommen noch die 
 Gebühren für die Anzahl an Personen hinzu. Link zum CampingplatzAm Samstag
 abend planen wir ein gemeinsames Grillen. Das Grillgut dafür wird vom Club
  gestellt. Vielleicht bringt der/die eine oder andere einen Salat dazu mit
 . Ansonsten muss die Verpflegung selbst organisiert werden. Was nicht heiß
 t\, dass am Freitag nicht auch schon gemeinsam gegrillt werden kann\, nur 
 halt selbst organisiert. 😉Wer möchte\, darf gern seinen Partner/ seine Par
 tnerin mitbringen\, auch wenn diese nicht im Verein ist. Dann fällt nur fü
 r das Grillen eine kleine Kostenbeteiligung an. Füllmöglichkeiten sind bei
 m benachbarten Campingplatz gegeben\, aber wer zwei\, drei Flaschen dabei 
 hat\, kann es sich ggf. auch sparen. Wessen Interesse wir geweckt haben\, 
 es aber noch offene Fragen gibt\, oder wer Probleme bei der Buchung hat\, 
 spricht uns am besten einfach direkt an. Falls es terminlich bei euch nich
 t hundert Prozent passt\, könnt ihr auch nur für einen oder zwei Tage dazu
 stoßen. Bitte trotzdem an der Veranstaltung anmelden und hinter dem Namen 
 die Tage angeben\, damit wir einen Überblick behalten können. Anmeldeschlu
 ss ist der 26.05.2024.Wir freuen uns auf ein entspanntes Wochenende und to
 lle Tauchgänge bei hoffentlich guter Sicht und schönen Wetter. Bei Fragen 
 sprecht uns gern an.Leif und Timo https://www.uc-baltic.de/veranstaltungen
 /kalender/ereignis/930-tauchwochenende-in-middelfart-galsklint-camping
DTSTART:20240531T130000Z
DTEND:20240602T160000Z
LOCATION:Unterwasserclub Baltic e.V.  (Fahrensodde 20\, 24944 Flensburg)
SUMMARY:Tauchwochenende in Middelfart\, Galsklint Camping
URL:https://www.uc-baltic.de/veranstaltungen/kalender/ereignis/930-tauchwoc
 henende-in-middelfart-galsklint-camping
END:VEVENT
END:VCALENDAR
