BEGIN:VCALENDAR
VERSION:2.0
PRODID:-//https://www.uc-baltic.de///NONSGML kigkonsult.se iCalcreator 2.10.15//
METHOD:PUBLISH
BEGIN:VEVENT
UID:20260423T020005CEST-5553az1uj3@https://www.uc-baltic.de/
DTSTAMP:20260423T000005Z
DESCRIPTION:Hallo liebe Mitglieder\,\nAm Samstag den 13.07.24 findet unser 
 diesjähriges Sommergrillen und auch der Tiefenjunky statt.\nBitte entsprec
 hendes Ticket oder beide buchen damit wir die Anzahl der Teilnehmer zu der
  jeweiligen Veranstaltung wissen. \n\nTiefenjunky\nFindet die tiefste Stel
 le in der Flensburger Förde vor unserer Tauchbasis in Odde. Wann: 13.07.24
 Treffen: 14:00 UhrOrt: Clubheim UC-BalticAnmeldung: bis zum 06.07.2024 übe
 r unseren KalenderDa wahrscheinlich mit unterschiedlichen Flaschengrößen g
 etaucht wird und damit alle die gleiche Chance haben\, wird die max. Tauch
 zeit auf 45 min angesetzt. Scooter sind ebenfalls nicht erlaubt. Bei der A
 uswertung muss die max. Tiefe im Tauchcomputer mit dem aktuellen Datum gel
 oggt sein. Also achtet darauf\, dass das aktuelle Datum und die richtige U
 hrzeit am Computer eingestellt sind.Zeitlich wollen wir hier etwas mehr Sp
 ielraum lassen als die letzten Jahre. Ihr könnt den ganzen Tag über euren 
 Tauchgang absolvieren. Je nachdem\, wann es euch am besten passt. Der Tauc
 hgang muss nur bis 17:30 Uhr abgeschlossen sein. Wer noch keinen festen Bu
 ddy hat oder nicht genau weiß\, wie es abläuft\, der kommt am besten um 15
 :00 Uhr zum Club. Dann werden wir Teams zusammenstellen und auch selbst in
 s Wasser gehen.Die Siegerehrung findet nach dem Grillen statt. Meldet euch
  also für beide Veranstaltungen an. Noch eine kleine Anmerkung: Da für die
 sen Tag das Tauchevent geplant ist\, nimmt jeder\, der an diesem Tag am Cl
 ub\, Tauchen geht\, automatisch am Tiefenjunky teil. 😉\nSommergrillen\nWan
 n: 13.07.24Treffen: 19:00 UhrOrt: Clubheim UC-BalticAnmeldung: bis zum 06.
 07.2024 über unseren KalenderAm Abend laden wir Euch zum jährlichen Sommer
 grillen ein.Nackensteak\, Wurst und Geflügel wird vom Club gestellt. Es wä
 re schön\, wenn jeder etwas zum Beilagen-Buffet zusteuert.Wir freuen uns a
 uf einen gemütlichen Abend mit Euch.Viele GrüßeLeif und Timo https://www.u
 c-baltic.de/veranstaltungen/kalender/ereignis/913-tiefenjunky-und-sommergr
 illen-sa-13-07-2024
DTSTART:20240713T080000Z
DTEND:20240713T215900Z
LOCATION:Clubheim UC Baltic ()
SUMMARY:Tiefenjunky und Sommergrillen\, Sa 13.07.2024
URL:https://www.uc-baltic.de/veranstaltungen/kalender/ereignis/913-tiefenju
 nky-und-sommergrillen-sa-13-07-2024
END:VEVENT
END:VCALENDAR
