BEGIN:VCALENDAR
VERSION:2.0
PRODID:-//https://www.uc-baltic.de///NONSGML kigkonsult.se iCalcreator 2.10.15//
METHOD:PUBLISH
BEGIN:VEVENT
UID:20260423T113522CEST-4774Ik67fr@https://www.uc-baltic.de/
DTSTAMP:20260423T093522Z
DESCRIPTION: https://www.uc-baltic.de/veranstaltungen/kalender/ereignis/905
 -flossenschwimmen-do-16-17-uhr
DTSTART:20240215T150000Z
DTEND:20240215T160000Z
LOCATION:Campusbad (Thomas-Fincke-Straße 19\, 24943 Flensburg)
SUMMARY:Flossenschwimmen\, Do 16 - 17 Uhr
URL:https://www.uc-baltic.de/veranstaltungen/kalender/ereignis/905-flossens
 chwimmen-do-16-17-uhr
END:VEVENT
END:VCALENDAR
