BEGIN:VCALENDAR
VERSION:2.0
PRODID:-//https://www.uc-baltic.de///NONSGML kigkonsult.se iCalcreator 2.10.15//
METHOD:PUBLISH
BEGIN:VEVENT
UID:20260423T113522CEST-98024sD5Xk@https://www.uc-baltic.de/
DTSTAMP:20260423T093522Z
DESCRIPTION: https://www.uc-baltic.de/veranstaltungen/kalender/ereignis/893
 -flossenschwimmen-di-19-20-uhr
DTSTART:20240213T180000Z
DTEND:20240213T190000Z
LOCATION:Campusbad (Thomas-Fincke-Straße 19\, 24943 Flensburg)
SUMMARY:Flossenschwimmen\, Di 19 - 20 Uhr
URL:https://www.uc-baltic.de/veranstaltungen/kalender/ereignis/893-flossens
 chwimmen-di-19-20-uhr
END:VEVENT
END:VCALENDAR
