BEGIN:VCALENDAR
VERSION:2.0
PRODID:-//https://www.uc-baltic.de///NONSGML kigkonsult.se iCalcreator 2.10.15//
METHOD:PUBLISH
BEGIN:VEVENT
UID:20260423T112641CEST-08639uFa1U@https://www.uc-baltic.de/
DTSTAMP:20260423T092641Z
DESCRIPTION: https://www.uc-baltic.de/veranstaltungen/kalender/ereignis/892
 -flossenschwimmen-di-19-20-uhr
DTSTART:20240206T180000Z
DTEND:20240206T190000Z
LOCATION:Campusbad (Thomas-Fincke-Straße 19\, 24943 Flensburg)
SUMMARY:Flossenschwimmen\, Di 19 - 20 Uhr
URL:https://www.uc-baltic.de/veranstaltungen/kalender/ereignis/892-flossens
 chwimmen-di-19-20-uhr
END:VEVENT
END:VCALENDAR
