BEGIN:VCALENDAR
VERSION:2.0
PRODID:-//https://www.uc-baltic.de///NONSGML kigkonsult.se iCalcreator 2.10.15//
METHOD:PUBLISH
BEGIN:VEVENT
UID:20260423T093104CEST-4231xOUUu3@https://www.uc-baltic.de/
DTSTAMP:20260423T073104Z
DESCRIPTION: https://www.uc-baltic.de/veranstaltungen/kalender/ereignis/860
 -flossenschwimmen-mo-19-20-uhr
DTSTART:20240304T180000Z
DTEND:20240304T190000Z
LOCATION:Campusbad (Thomas-Fincke-Straße 19\, 24943 Flensburg)
SUMMARY:Flossenschwimmen\, Mo 19 - 20 Uhr
URL:https://www.uc-baltic.de/veranstaltungen/kalender/ereignis/860-flossens
 chwimmen-mo-19-20-uhr
END:VEVENT
END:VCALENDAR
