BEGIN:VCALENDAR
VERSION:2.0
PRODID:-//https://www.uc-baltic.de///NONSGML kigkonsult.se iCalcreator 2.10.15//
METHOD:PUBLISH
BEGIN:VEVENT
UID:20260423T112515CEST-9148uBUPUs@https://www.uc-baltic.de/
DTSTAMP:20260423T092515Z
DESCRIPTION: https://www.uc-baltic.de/veranstaltungen/kalender/ereignis/857
 -flossenschwimmen-mo-19-20-uhr
DTSTART:20240212T180000Z
DTEND:20240212T190000Z
LOCATION:Campusbad (Thomas-Fincke-Straße 19\, 24943 Flensburg)
SUMMARY:Flossenschwimmen\, Mo 19 - 20 Uhr
URL:https://www.uc-baltic.de/veranstaltungen/kalender/ereignis/857-flossens
 chwimmen-mo-19-20-uhr
END:VEVENT
END:VCALENDAR
