BEGIN:VCALENDAR
VERSION:2.0
PRODID:-//https://www.uc-baltic.de///NONSGML kigkonsult.se iCalcreator 2.10.15//
METHOD:PUBLISH
BEGIN:VEVENT
UID:20260423T131558CEST-6315UFKaD8@https://www.uc-baltic.de/
DTSTAMP:20260423T111558Z
DESCRIPTION:Vortrag am 03.01.2024: Das bunte Leben in der Ostsee und die Un
 terwasserwelt an der Ostmole in FahrensoddeBitte Anmelden damit wir entspr
 echende Teilnehmeranzahl melden können.Am 03.01.2024 besucht der Masterstu
 dent Philipp Hoy vom Institut für Ostseeforschung Warnemünde die Segler-Ve
 reinigung und berichtet im Anschluss an die Monatsversammlung in einem spa
 nnenden Foto- und Filmbericht über das bunte Leben in der Ostsee und über
  die Unterwasserwelt an der Ostmole in Fahrensodde.Diesen Bericht gibt er 
 aus Sicht des Forschungsprojekts „Mikrobiom des Brotkrumenschwamms“\, das 
 neben Probestandorten in Schweden und in der Kieler Förde auch an der Auße
 nseite der Ostmole des Hafens Fahrensodde beprobt hat. Der Brotkrumenschwa
 mm ist ein festsitzendes Tier\, welches auf harten Untergründen wächst. Es
  erinnert ein wenig an einen Badeschwamm.Ca. 45 Minuten lang wird Philipp 
 Hoy interessante wissenschaftliche Informationen über sein Forschungsproje
 kt berichten. Vor allem dürfen sich die Teilnehmerinnen und Teilnehmer abe
 r über einen Vortrag über das Tauchen\, besonders das Forschungstauchen un
 d die Unterwasserwelt freuen. Viele Bilder und bestimmt auch das ein oder 
 andere Video sind versprochen. Und versprochen ist von Philipp Hoy auch: '
 Es wird kein trockener Forschungsvortrag'.Raum: Vereinsheim der Segler-Ver
 einigung Flensburg e.V. (SVF) - Restaurant FördeblickOrt: Fahrensodde 16\,
  24944 FlensburgZeit: ca. 21 Uhr (nach Ende der vereinsinternen Monatsvers
 ammlung) https://www.uc-baltic.de/veranstaltungen/kalender/ereignis/849-da
 s-bunte-leben-in-der-ostsee-und-die-unterwasserwelt-an-der-ostmole-in-fahr
 ensodde
DTSTART:20240103T200000Z
DTEND:20240103T220000Z
LOCATION: (Vereinsheim der Segler-Vereinigung Flensburg e.V. (SVF) - Restau
 rant Fördeblick)
SUMMARY:Das bunte Leben in der Ostsee und die Unterwasserwelt an der Ostmol
 e in Fahrensodde
URL:https://www.uc-baltic.de/veranstaltungen/kalender/ereignis/849-das-bunt
 e-leben-in-der-ostsee-und-die-unterwasserwelt-an-der-ostmole-in-fahrensodd
 e
END:VEVENT
END:VCALENDAR
