BEGIN:VCALENDAR
VERSION:2.0
PRODID:-//https://www.uc-baltic.de///NONSGML kigkonsult.se iCalcreator 2.10.15//
METHOD:PUBLISH
BEGIN:VEVENT
UID:20260419T175947CEST-0802odTbDF@https://www.uc-baltic.de/
DTSTAMP:20260419T155947Z
DESCRIPTION:DTSA* Theorieprüfung https://www.uc-baltic.de/veranstaltungen/k
 alender/ereignis/847-dtsa-theoriepruefung
DTSTART:20231203T090000Z
DTEND:20231203T110000Z
LOCATION:Clubheim ()
SUMMARY:DTSA* Theorieprüfung
URL:https://www.uc-baltic.de/veranstaltungen/kalender/ereignis/847-dtsa-the
 oriepruefung
END:VEVENT
END:VCALENDAR
