BEGIN:VCALENDAR
VERSION:2.0
PRODID:-//https://www.uc-baltic.de///NONSGML kigkonsult.se iCalcreator 2.10.15//
METHOD:PUBLISH
BEGIN:VEVENT
UID:20260423T232557CEST-4136jAObxW@https://www.uc-baltic.de/
DTSTAMP:20260423T212557Z
DESCRIPTION:Im Rahmen der Tauchausbildung im UC Baltic bieten wir einen Auf
 baukurs (AK) GDL Dive Group Leader / Gruppenführung an. In dem mehrtägigen
  Kurs beschäftigen wir uns mit in Theorie und Praxis mit den Grundelemente
 n der Gruppenführung und deren Zusammenwirken. Der AK Gruppenführung ist V
 oraussetzung für die Brevetierung zum DTSA**. https://www.uc-baltic.de/ver
 anstaltungen/kalender/ereignis/19-ak-gruppenfuehrung
DTSTART:20230630T220000Z
DTEND:20230701T215900Z
LOCATION:Unterwasserclub Baltic e.V.  (Fahrensodde 20\, 24944 Flensburg)
SUMMARY:AK Gruppenführung
URL:https://www.uc-baltic.de/veranstaltungen/kalender/ereignis/19-ak-gruppe
 nfuehrung
END:VEVENT
END:VCALENDAR
