BEGIN:VCALENDAR
VERSION:2.0
PRODID:-//https://www.uc-baltic.de///NONSGML kigkonsult.se iCalcreator 2.10.15//
METHOD:PUBLISH
BEGIN:VEVENT
UID:20260419T144419CEST-5224HvgMT9@https://www.uc-baltic.de/
DTSTAMP:20260419T124419Z
DESCRIPTION: https://www.uc-baltic.de/veranstaltungen/kalender/ereignis/185
 1-flossenschwimmen-mo-19-00-20-00-unr
DTSTART:20260511T170000Z
DTEND:20260511T180000Z
LOCATION:Campusbad (Thomas-Fincke-Straße 19\, 24943 Flensburg)
SUMMARY:Flossenschwimmen\, Mo 19:00 - 20:00 Unr
URL:https://www.uc-baltic.de/veranstaltungen/kalender/ereignis/1851-flossen
 schwimmen-mo-19-00-20-00-unr
END:VEVENT
END:VCALENDAR
