BEGIN:VCALENDAR
VERSION:2.0
PRODID:-//https://www.uc-baltic.de///NONSGML kigkonsult.se iCalcreator 2.10.15//
METHOD:PUBLISH
BEGIN:VEVENT
UID:20260419T161216CEST-4001U1wXJB@https://www.uc-baltic.de/
DTSTAMP:20260419T141216Z
DESCRIPTION:SK Tauchfertigkeiten des DUC KielWeitere Informationen bei alex
 andra@uc-baltic.de https://www.uc-baltic.de/veranstaltungen/kalender/ereig
 nis/1810-sk-tauchfertigkeiten
DTSTART:20260605T130000Z
DTEND:20260607T170000Z
LOCATION:DUC Kiel ()
SUMMARY:SK Tauchfertigkeiten
URL:https://www.uc-baltic.de/veranstaltungen/kalender/ereignis/1810-sk-tauc
 hfertigkeiten
END:VEVENT
END:VCALENDAR
