BEGIN:VCALENDAR
VERSION:2.0
PRODID:-//https://www.uc-baltic.de///NONSGML kigkonsult.se iCalcreator 2.10.15//
METHOD:PUBLISH
BEGIN:VEVENT
UID:20260419T150958CEST-7542nwFLpK@https://www.uc-baltic.de/
DTSTAMP:20260419T130958Z
DESCRIPTION:Aufbaukurs Tauchsicherheit und RettungAusschreibung folgt in Kü
 rze! https://www.uc-baltic.de/veranstaltungen/kalender/ereignis/1807-ak-ta
 uchsicherheit-rettung
DTSTART:20260509T070000Z
DTEND:20260510T160000Z
LOCATION:Unterwasserclub Baltic e.V.  (Fahrensodde 20\, 24944 Flensburg)
SUMMARY:AK Tauchsicherheit & Rettung
URL:https://www.uc-baltic.de/veranstaltungen/kalender/ereignis/1807-ak-tauc
 hsicherheit-rettung
END:VEVENT
END:VCALENDAR
