BEGIN:VCALENDAR
VERSION:2.0
PRODID:-//https://www.uc-baltic.de///NONSGML kigkonsult.se iCalcreator 2.10.15//
METHOD:PUBLISH
BEGIN:VEVENT
UID:20260419T150459CEST-3230bvaor3@https://www.uc-baltic.de/
DTSTAMP:20260419T130459Z
DESCRIPTION:DTSA* Prüfung im ClubheimUm Rücksichtnahme wird gebeten! https:
 //www.uc-baltic.de/veranstaltungen/kalender/ereignis/1805-dtsa-pruefung
DTSTART:20260322T090000Z
DTEND:20260322T103000Z
LOCATION:Unterwasserclub Baltic e.V.  (Fahrensodde 20\, 24944 Flensburg)
SUMMARY:DTSA* Prüfung
URL:https://www.uc-baltic.de/veranstaltungen/kalender/ereignis/1805-dtsa-pr
 uefung
END:VEVENT
END:VCALENDAR
