BEGIN:VCALENDAR
VERSION:2.0
PRODID:-//https://www.uc-baltic.de///NONSGML kigkonsult.se iCalcreator 2.10.15//
METHOD:PUBLISH
BEGIN:VEVENT
UID:20260419T150512CEST-4775Xe3EDX@https://www.uc-baltic.de/
DTSTAMP:20260419T130512Z
DESCRIPTION:DTSA* Ausbildung im ClubheimUm Rücksichtnahme wird gebeten! htt
 ps://www.uc-baltic.de/veranstaltungen/kalender/ereignis/1804-dtsa-ausbildu
 ng
DTSTART:20260315T130000Z
DTEND:20260315T170000Z
LOCATION:Unterwasserclub Baltic e.V.  (Fahrensodde 20\, 24944 Flensburg)
SUMMARY:DTSA* Ausbildung
URL:https://www.uc-baltic.de/veranstaltungen/kalender/ereignis/1804-dtsa-au
 sbildung
END:VEVENT
END:VCALENDAR
