BEGIN:VCALENDAR
VERSION:2.0
PRODID:-//https://www.uc-baltic.de///NONSGML kigkonsult.se iCalcreator 2.10.15//
METHOD:PUBLISH
BEGIN:VEVENT
UID:20260423T225547CEST-8072O1r9i9@https://www.uc-baltic.de/
DTSTAMP:20260423T205547Z
DESCRIPTION:Im Rahmen der Tauchausbildung im UC Baltic bieten wir einen Auf
 baukurs (AK) GDL Navigation Diver / AK Orientierung an. In dem zweitägigen
  Kurs beschäftigen wir uns mit natürlichen und technischen Hilfsmitteln zu
 r Orientierung beim Tauchen. Ihr sollt in die Lage versetzt werden\, währe
 nd des Tauchganges Tauchkurs und Standort zu bestimmen und sicher zum Ausg
 angspunkt des Tauchganges zurückzufinden. Der AK Orientierung ist Vorausse
 tzung für die Brevetierung zum DTSA**. https://www.uc-baltic.de/veranstalt
 ungen/kalender/ereignis/18-ak-orientierung
DTSTART:20230630T220000Z
DTEND:20230701T215900Z
LOCATION:Unterwasserclub Baltic e.V.  (Fahrensodde 20\, 24944 Flensburg)
SUMMARY:AK Orientierung
URL:https://www.uc-baltic.de/veranstaltungen/kalender/ereignis/18-ak-orient
 ierung
END:VEVENT
END:VCALENDAR
