BEGIN:VCALENDAR
VERSION:2.0
PRODID:-//https://www.uc-baltic.de///NONSGML kigkonsult.se iCalcreator 2.10.15//
METHOD:PUBLISH
BEGIN:VEVENT
UID:20260419T175919CEST-2630RjiUDH@https://www.uc-baltic.de/
DTSTAMP:20260419T155919Z
DESCRIPTION: https://www.uc-baltic.de/veranstaltungen/kalender/ereignis/179
 9-ausbildung-dtsa
DTSTART:20260124T130000Z
DTEND:20260124T170000Z
LOCATION:Clubheim ()
SUMMARY:Ausbildung DTSA*
URL:https://www.uc-baltic.de/veranstaltungen/kalender/ereignis/1799-ausbild
 ung-dtsa
END:VEVENT
END:VCALENDAR
