BEGIN:VCALENDAR
VERSION:2.0
PRODID:-//https://www.uc-baltic.de///NONSGML kigkonsult.se iCalcreator 2.10.15//
METHOD:PUBLISH
BEGIN:VEVENT
UID:20260419T150958CEST-4768UMuiCp@https://www.uc-baltic.de/
DTSTAMP:20260419T130958Z
DESCRIPTION: https://www.uc-baltic.de/veranstaltungen/kalender/ereignis/172
 6-flossenschwimmen-mo-19-00-20-00-uhr
DTSTART:20260223T180000Z
DTEND:20260223T190000Z
LOCATION:Campusbad (Thomas-Fincke-Straße 19\, 24943 Flensburg)
SUMMARY:Flossenschwimmen\, Mo 19:00 - 20:00 Uhr
URL:https://www.uc-baltic.de/veranstaltungen/kalender/ereignis/1726-flossen
 schwimmen-mo-19-00-20-00-uhr
END:VEVENT
END:VCALENDAR
