BEGIN:VCALENDAR
VERSION:2.0
PRODID:-//https://www.uc-baltic.de///NONSGML kigkonsult.se iCalcreator 2.10.15//
METHOD:PUBLISH
BEGIN:VEVENT
UID:20260419T163357CEST-0206LlGFGX@https://www.uc-baltic.de/
DTSTAMP:20260419T143357Z
DESCRIPTION: https://www.uc-baltic.de/veranstaltungen/kalender/ereignis/172
 5-flossenschwimmen-mo-19-00-20-00-uhr
DTSTART:20260216T180000Z
DTEND:20260216T190000Z
LOCATION:Campusbad (Thomas-Fincke-Straße 19\, 24943 Flensburg)
SUMMARY:Flossenschwimmen\, Mo 19:00 - 20:00 Uhr
URL:https://www.uc-baltic.de/veranstaltungen/kalender/ereignis/1725-flossen
 schwimmen-mo-19-00-20-00-uhr
END:VEVENT
END:VCALENDAR
