BEGIN:VCALENDAR
VERSION:2.0
PRODID:-//https://www.uc-baltic.de///NONSGML kigkonsult.se iCalcreator 2.10.15//
METHOD:PUBLISH
BEGIN:VEVENT
UID:20260419T180241CEST-4391p3Hx8o@https://www.uc-baltic.de/
DTSTAMP:20260419T160241Z
DESCRIPTION:Moin zusammen\,\nam 21. Februar besucht uns eine Gruppe Gasttau
 cher\, vor Ihrem Besuch im Tauchermuseum.\nTauchbetrieb findet wie immer s
 tatt\, es kann nur etwas voller werden.Dieser Termin dient nur um euch zu 
 informieren. https://www.uc-baltic.de/veranstaltungen/kalender/ereignis/17
 17-gasttaucher-foerdeschlosser
DTSTART:20260221T110000Z
DTEND:20260221T143000Z
LOCATION:Unterwasserclub Baltic e.V.  (Fahrensodde 20\, 24944 Flensburg)
SUMMARY:Gasttaucher Fördeschlosser
URL:https://www.uc-baltic.de/veranstaltungen/kalender/ereignis/1717-gasttau
 cher-foerdeschlosser
END:VEVENT
END:VCALENDAR
