BEGIN:VCALENDAR
VERSION:2.0
PRODID:-//https://www.uc-baltic.de///NONSGML kigkonsult.se iCalcreator 2.10.15//
METHOD:PUBLISH
BEGIN:VEVENT
UID:20260419T150712CEST-2416pK93XL@https://www.uc-baltic.de/
DTSTAMP:20260419T130712Z
DESCRIPTION: https://www.uc-baltic.de/veranstaltungen/kalender/ereignis/171
 4-private-veranstaltung
DTSTART:20260326T160000Z
DTEND:20260326T225900Z
LOCATION:Unterwasserclub Baltic e.V.  (Fahrensodde 20\, 24944 Flensburg)
SUMMARY:Private Veranstaltung
URL:https://www.uc-baltic.de/veranstaltungen/kalender/ereignis/1714-private
 -veranstaltung
END:VEVENT
END:VCALENDAR
