BEGIN:VCALENDAR
VERSION:2.0
PRODID:-//https://www.uc-baltic.de///NONSGML kigkonsult.se iCalcreator 2.10.15//
METHOD:PUBLISH
BEGIN:VEVENT
UID:20260419T225128CEST-4945PAK8TR@https://www.uc-baltic.de/
DTSTAMP:20260419T205128Z
DESCRIPTION: https://www.uc-baltic.de/veranstaltungen/kalender/ereignis/171
 0-flossenschwimmen-fr-20-21-uhr
DTSTART:20251121T190000Z
DTEND:20251121T200000Z
LOCATION:Campusbad (Thomas-Fincke-Straße 19\, 24943 Flensburg)
SUMMARY:Flossenschwimmen\, Fr 20 - 21 Uhr
URL:https://www.uc-baltic.de/veranstaltungen/kalender/ereignis/1710-flossen
 schwimmen-fr-20-21-uhr
END:VEVENT
END:VCALENDAR
