BEGIN:VCALENDAR
VERSION:2.0
PRODID:-//https://www.uc-baltic.de///NONSGML kigkonsult.se iCalcreator 2.10.15//
METHOD:PUBLISH
BEGIN:VEVENT
UID:20260419T210819CEST-8030okz4Xr@https://www.uc-baltic.de/
DTSTAMP:20260419T190819Z
DESCRIPTION: https://www.uc-baltic.de/veranstaltungen/kalender/ereignis/170
 1-flossenschwimmen-do-16-17-uhr
DTSTART:20251106T150000Z
DTEND:20251106T160000Z
LOCATION:Campusbad (Thomas-Fincke-Straße 19\, 24943 Flensburg)
SUMMARY:Flossenschwimmen\, Do 16 - 17 Uhr
URL:https://www.uc-baltic.de/veranstaltungen/kalender/ereignis/1701-flossen
 schwimmen-do-16-17-uhr
END:VEVENT
END:VCALENDAR
