BEGIN:VCALENDAR
VERSION:2.0
PRODID:-//https://www.uc-baltic.de///NONSGML kigkonsult.se iCalcreator 2.10.15//
METHOD:PUBLISH
BEGIN:VEVENT
UID:20260419T192636CEST-7588S1Fn1U@https://www.uc-baltic.de/
DTSTAMP:20260419T172636Z
DESCRIPTION: https://www.uc-baltic.de/veranstaltungen/kalender/ereignis/170
 0-flossenschwimmen-di-19-20-uhr
DTSTART:20251216T180000Z
DTEND:20251216T190000Z
LOCATION:Campusbad (Thomas-Fincke-Straße 19\, 24943 Flensburg)
SUMMARY:Flossenschwimmen\, Di 19 - 20 Uhr
URL:https://www.uc-baltic.de/veranstaltungen/kalender/ereignis/1700-flossen
 schwimmen-di-19-20-uhr
END:VEVENT
END:VCALENDAR
